BEGIN:VCALENDAR
VERSION:2.0
PRODID:-//NeighborWorks Green Bay - ECPv6.15.20//NONSGML v1.0//EN
CALSCALE:GREGORIAN
METHOD:PUBLISH
X-ORIGINAL-URL:https://nwgreenbay.org
X-WR-CALDESC:Events for NeighborWorks Green Bay
REFRESH-INTERVAL;VALUE=DURATION:PT1H
X-Robots-Tag:noindex
X-PUBLISHED-TTL:PT1H
BEGIN:VTIMEZONE
TZID:America/Chicago
BEGIN:DAYLIGHT
TZOFFSETFROM:-0600
TZOFFSETTO:-0500
TZNAME:CDT
DTSTART:20250309T080000
END:DAYLIGHT
BEGIN:STANDARD
TZOFFSETFROM:-0500
TZOFFSETTO:-0600
TZNAME:CST
DTSTART:20251102T070000
END:STANDARD
BEGIN:DAYLIGHT
TZOFFSETFROM:-0600
TZOFFSETTO:-0500
TZNAME:CDT
DTSTART:20260308T080000
END:DAYLIGHT
BEGIN:STANDARD
TZOFFSETFROM:-0500
TZOFFSETTO:-0600
TZNAME:CST
DTSTART:20261101T070000
END:STANDARD
BEGIN:DAYLIGHT
TZOFFSETFROM:-0600
TZOFFSETTO:-0500
TZNAME:CDT
DTSTART:20270314T080000
END:DAYLIGHT
BEGIN:STANDARD
TZOFFSETFROM:-0500
TZOFFSETTO:-0600
TZNAME:CST
DTSTART:20271107T070000
END:STANDARD
END:VTIMEZONE
BEGIN:VEVENT
DTSTART;VALUE=DATE:20261004
DTEND;VALUE=DATE:20261011
DTSTAMP:20260422T095609
CREATED:20260313T165635Z
LAST-MODIFIED:20260318T191652Z
UID:10000264-1791072000-1791676799@nwgreenbay.org
SUMMARY:Good Neighbor Week: De Pere
DESCRIPTION:Good Neighbor Week De Pere takes place each year. NeighborWorks Green Bay\, the City of De Pere and the De Pere Area Chamber of Commerce\, as well as many community partners\, plan several projects helping neighbors in need with minor home repairs\, landscaping or yard maintenance. \nLEARN MORE
URL:https://nwgreenbay.org/nwgbevent/good-neighbor-week-de-pere-2026/
LOCATION:City of De Pere\, De Pere\, WI\, 54115\, United States
CATEGORIES:Good Neighbor Week
ORGANIZER;CN="NeighborWorks Green Bay":MAILTO:info@nwgreenbay.org
END:VEVENT
END:VCALENDAR