BEGIN:VCALENDAR
VERSION:2.0
PRODID:-//NeighborWorks Green Bay - ECPv6.15.20//NONSGML v1.0//EN
CALSCALE:GREGORIAN
METHOD:PUBLISH
X-WR-CALNAME:NeighborWorks Green Bay
X-ORIGINAL-URL:https://nwgreenbay.org
X-WR-CALDESC:Events for NeighborWorks Green Bay
REFRESH-INTERVAL;VALUE=DURATION:PT1H
X-Robots-Tag:noindex
X-PUBLISHED-TTL:PT1H
BEGIN:VTIMEZONE
TZID:America/Chicago
BEGIN:DAYLIGHT
TZOFFSETFROM:-0600
TZOFFSETTO:-0500
TZNAME:CDT
DTSTART:20230312T080000
END:DAYLIGHT
BEGIN:STANDARD
TZOFFSETFROM:-0500
TZOFFSETTO:-0600
TZNAME:CST
DTSTART:20231105T070000
END:STANDARD
BEGIN:DAYLIGHT
TZOFFSETFROM:-0600
TZOFFSETTO:-0500
TZNAME:CDT
DTSTART:20240310T080000
END:DAYLIGHT
BEGIN:STANDARD
TZOFFSETFROM:-0500
TZOFFSETTO:-0600
TZNAME:CST
DTSTART:20241103T070000
END:STANDARD
BEGIN:DAYLIGHT
TZOFFSETFROM:-0600
TZOFFSETTO:-0500
TZNAME:CDT
DTSTART:20250309T080000
END:DAYLIGHT
BEGIN:STANDARD
TZOFFSETFROM:-0500
TZOFFSETTO:-0600
TZNAME:CST
DTSTART:20251102T070000
END:STANDARD
END:VTIMEZONE
BEGIN:VEVENT
DTSTART;TZID=America/Chicago:20241107T170000
DTEND;TZID=America/Chicago:20241107T200000
DTSTAMP:20260420T034151
CREATED:20240724T182645Z
LAST-MODIFIED:20251110T201720Z
UID:10000132-1730998800-1731009600@nwgreenbay.org
SUMMARY:NeighborWorks Green Bay Annual Event
DESCRIPTION:Please join us at our 42nd Annual Celebration at The Ravine Pub\, Grill & Banquet Hall 2633 Manitowoc Rd\, Green Bay\, WI 54311\, where food\, networking\, and fun await! The registration link to this free event will be available in early October.  With your support\, we are looking forward to another fantastic celebration!
URL:https://nwgreenbay.org/nwgbevent/neighborworks-green-bay-annual-event/
LOCATION:The Ravine\, 2633 Manitowoc Rd\, Green Bay\, WI\, 54311\, United States
CATEGORIES:Special Events
END:VEVENT
BEGIN:VEVENT
DTSTART;VALUE=DATE:20241111
DTEND;VALUE=DATE:20241112
DTSTAMP:20260420T034151
CREATED:20240827T165323Z
LAST-MODIFIED:20251110T201650Z
UID:10000135-1731283200-1731369599@nwgreenbay.org
SUMMARY:Closed for Veterans Day
DESCRIPTION:
URL:https://nwgreenbay.org/nwgbevent/closed-for-veterans-day/
CATEGORIES:Office Closure
END:VEVENT
BEGIN:VEVENT
DTSTART;TZID=America/Chicago:20241112T170000
DTEND;TZID=America/Chicago:20241112T200000
DTSTAMP:20260420T034151
CREATED:20231009T172437Z
LAST-MODIFIED:20251110T201604Z
UID:10000120-1731430800-1731441600@nwgreenbay.org
SUMMARY:HOMEBUYER EDUCATION CLASS VIA ZOOM – PART 1
DESCRIPTION:November Homebuyer Education class is being held on Tuesday\, November 12th and Wednesday\, November 13th. This two-day virtual online homebuyer education class will require students to attend both sessions from 5:00 PM to 8:00 PM on the Zoom Meeting platform. You may use your computer or smart phone to access the class in real time. There is a non-refundable $50 fee for this class. \nTo register click the “Start Your Journey Here” button on the top right of the website (please make sure to use Chrome as your browser)\, create an account\, and then select “Classes & Appointments” from the menu at the top of the screen.  You will be asked to pay when you register.
URL:https://nwgreenbay.org/nwgbevent/homebuyer-education-class-via-zoom-part-2-44/
CATEGORIES:Homebuyer Education Class
END:VEVENT
BEGIN:VEVENT
DTSTART;TZID=America/Chicago:20241113T170000
DTEND;TZID=America/Chicago:20241113T200000
DTSTAMP:20260420T034151
CREATED:20231009T172242Z
LAST-MODIFIED:20251110T201604Z
UID:10000119-1731517200-1731528000@nwgreenbay.org
SUMMARY:HOMEBUYER EDUCATION CLASS VIA ZOOM – PART 2
DESCRIPTION:November Homebuyer Education class is being held on Tuesday\, November 12th and Wednesday\, November 13th. This two-day virtual online homebuyer education class will require students to attend both sessions from 5:00 PM to 8:00 PM on the Zoom Meeting platform. You may use your computer or smart phone to access the class in real time. There is a non-refundable $50 fee for this class. \nTo register click the “Start Your Journey Here” button on the top right of the website (please make sure to use Chrome as your browser)\, create an account\, and then select “Classes & Appointments” from the menu at the top of the screen.  You will be asked to pay when you register.
URL:https://nwgreenbay.org/nwgbevent/homebuyer-education-class-via-zoom-part-1-46/
CATEGORIES:Homebuyer Education Class
END:VEVENT
BEGIN:VEVENT
DTSTART;VALUE=DATE:20241128
DTEND;VALUE=DATE:20241129
DTSTAMP:20260420T034151
CREATED:20240827T165355Z
LAST-MODIFIED:20251110T201649Z
UID:10000136-1732752000-1732838399@nwgreenbay.org
SUMMARY:Closed for Thanksgiving
DESCRIPTION:
URL:https://nwgreenbay.org/nwgbevent/closed-for-thanksgiving/
CATEGORIES:Office Closure
END:VEVENT
END:VCALENDAR