BEGIN:VCALENDAR
VERSION:2.0
PRODID:-//NeighborWorks Green Bay - ECPv6.15.20//NONSGML v1.0//EN
CALSCALE:GREGORIAN
METHOD:PUBLISH
X-ORIGINAL-URL:https://nwgreenbay.org
X-WR-CALDESC:Events for NeighborWorks Green Bay
REFRESH-INTERVAL;VALUE=DURATION:PT1H
X-Robots-Tag:noindex
X-PUBLISHED-TTL:PT1H
BEGIN:VTIMEZONE
TZID:America/Chicago
BEGIN:DAYLIGHT
TZOFFSETFROM:-0600
TZOFFSETTO:-0500
TZNAME:CDT
DTSTART:20240310T080000
END:DAYLIGHT
BEGIN:STANDARD
TZOFFSETFROM:-0500
TZOFFSETTO:-0600
TZNAME:CST
DTSTART:20241103T070000
END:STANDARD
BEGIN:DAYLIGHT
TZOFFSETFROM:-0600
TZOFFSETTO:-0500
TZNAME:CDT
DTSTART:20250309T080000
END:DAYLIGHT
BEGIN:STANDARD
TZOFFSETFROM:-0500
TZOFFSETTO:-0600
TZNAME:CST
DTSTART:20251102T070000
END:STANDARD
BEGIN:DAYLIGHT
TZOFFSETFROM:-0600
TZOFFSETTO:-0500
TZNAME:CDT
DTSTART:20260308T080000
END:DAYLIGHT
BEGIN:STANDARD
TZOFFSETFROM:-0500
TZOFFSETTO:-0600
TZNAME:CST
DTSTART:20261101T070000
END:STANDARD
BEGIN:DAYLIGHT
TZOFFSETFROM:-0600
TZOFFSETTO:-0500
TZNAME:CDT
DTSTART:20270314T080000
END:DAYLIGHT
BEGIN:STANDARD
TZOFFSETFROM:-0500
TZOFFSETTO:-0600
TZNAME:CST
DTSTART:20271107T070000
END:STANDARD
END:VTIMEZONE
BEGIN:VEVENT
DTSTART;TZID=America/Chicago:20251104T170000
DTEND;TZID=America/Chicago:20251104T200000
DTSTAMP:20260422T133443
CREATED:20241220T225256Z
LAST-MODIFIED:20251110T192028Z
UID:10000166-1762275600-1762286400@nwgreenbay.org
SUMMARY:HOMEBUYER EDUCATION CLASS - In Person - PART 2
DESCRIPTION:November 2025 Homebuyer Education class is being held on Monday\, November 3rd and Tuesday\, November 4th at 437 S. Jackson Street in Green Bay. This two-day class will require students to attend both sessions from 5:00 PM to 8:00 PM. There is a non-refundable $50 fee for this class. \nRegistration will close 24 hours before the first class date. \n**You must complete both classes**
URL:https://nwgreenbay.org/nwgbevent/homebuyer-education-class-via-zoom-part-2-58/
LOCATION:WI
CATEGORIES:Homebuyer Education Class
END:VEVENT
BEGIN:VEVENT
DTSTART;VALUE=DATE:20251111
DTEND;VALUE=DATE:20251112
DTSTAMP:20260422T133443
CREATED:20250213T170815Z
LAST-MODIFIED:20251110T185248Z
UID:10000182-1762819200-1762905599@nwgreenbay.org
SUMMARY:Closed for Veterans Day
DESCRIPTION:
URL:https://nwgreenbay.org/nwgbevent/closed-for-veterans-day-2/
LOCATION:WI
CATEGORIES:Office Closure
END:VEVENT
BEGIN:VEVENT
DTSTART;VALUE=DATE:20251127
DTEND;VALUE=DATE:20251128
DTSTAMP:20260422T133443
CREATED:20250213T171359Z
LAST-MODIFIED:20251110T185238Z
UID:10000183-1764201600-1764287999@nwgreenbay.org
SUMMARY:Closed for Thanksgiving
DESCRIPTION:
URL:https://nwgreenbay.org/nwgbevent/closed-for-thanksgiving-2/
LOCATION:WI
CATEGORIES:Office Closure
END:VEVENT
BEGIN:VEVENT
DTSTART;TZID=America/Chicago:20251201T170000
DTEND;TZID=America/Chicago:20251201T200000
DTSTAMP:20260422T133443
CREATED:20241220T225404Z
LAST-MODIFIED:20251110T192028Z
UID:10000167-1764608400-1764619200@nwgreenbay.org
SUMMARY:HOMEBUYER EDUCATION CLASS - In Person - PART 1
DESCRIPTION:December 2025 Homebuyer Education class is being held on Monday\, December 1st and Tuesday\, December 2nd.at 437 S. Jackson Street in Green Bay. This two-day class will require students to attend both sessions from 5:00 PM to 8:00 PM. There is a non-refundable $50 fee for this class. \nRegistration will close 24 hours before the first class date. \n**You must complete both classes**
URL:https://nwgreenbay.org/nwgbevent/homebuyer-education-class-via-zoom-part-1-61/
LOCATION:WI
CATEGORIES:Homebuyer Education Class
END:VEVENT
BEGIN:VEVENT
DTSTART;TZID=America/Chicago:20251202T170000
DTEND;TZID=America/Chicago:20251202T200000
DTSTAMP:20260422T133443
CREATED:20241220T225501Z
LAST-MODIFIED:20251110T192028Z
UID:10000168-1764694800-1764705600@nwgreenbay.org
SUMMARY:HOMEBUYER EDUCATION CLASS - In Person - PART 2
DESCRIPTION:December 2025 Homebuyer Education class is being held on Monday\, December 1st and Tuesday\, December 2nd at 437 S. Jackson Street in Green Bay. This two-day class will require students to attend both sessions from 5:00 PM to 8:00 PM. There is a non-refundable $50 fee for this class. \nRegistration will close 24 hours before the first class date. \n**You must complete both classes**
URL:https://nwgreenbay.org/nwgbevent/homebuyer-education-class-via-zoom-part-2-59/
LOCATION:WI
CATEGORIES:Homebuyer Education Class
END:VEVENT
BEGIN:VEVENT
DTSTART;TZID=America/Chicago:20251206T090000
DTEND;TZID=America/Chicago:20251206T150000
DTSTAMP:20260422T133443
CREATED:20250612T182400Z
LAST-MODIFIED:20251110T192027Z
UID:10000198-1765011600-1765033200@nwgreenbay.org
SUMMARY:Clase de educación para compradores de vivienda de diciembre de 2025
DESCRIPTION:La clase de educación para compradores de vivienda en español de Diciembre de 2025 se impartirá el Sábado 6 de Diciembre\, de 9:00 a. m. a 3:00 p. m.\, en el salón de NeighborWorks Green Bay. El costo de esta clase es de $50\, no reembolsable.
URL:https://nwgreenbay.org/nwgbevent/clase-de-educacion-para-compradores-de-vivienda-de-diciembre-de-2025/
LOCATION:NeighborWorks Green Bay
CATEGORIES:Homebuyer Education Class
END:VEVENT
BEGIN:VEVENT
DTSTART;TZID=America/Chicago:20251224T130000
DTEND;TZID=America/Chicago:20251224T170000
DTSTAMP:20260422T133443
CREATED:20250213T171509Z
LAST-MODIFIED:20251110T185224Z
UID:10000184-1766581200-1766595600@nwgreenbay.org
SUMMARY:Closed from 1-5 pm for Christmas Eve
DESCRIPTION:
URL:https://nwgreenbay.org/nwgbevent/closed-from-1-5-pm-for-christmas-eve/
LOCATION:WI
CATEGORIES:Office Closure
END:VEVENT
BEGIN:VEVENT
DTSTART;VALUE=DATE:20251225
DTEND;VALUE=DATE:20251226
DTSTAMP:20260422T133443
CREATED:20250213T171608Z
LAST-MODIFIED:20251110T202723Z
UID:10000185-1766620800-1766707199@nwgreenbay.org
SUMMARY:Closed for Christmas Day
DESCRIPTION:
URL:https://nwgreenbay.org/nwgbevent/closed-for-christmas-day/
LOCATION:WI
CATEGORIES:Office Closure
END:VEVENT
BEGIN:VEVENT
DTSTART;TZID=America/Chicago:20251231T130000
DTEND;TZID=America/Chicago:20251231T170000
DTSTAMP:20260422T133443
CREATED:20250213T171706Z
LAST-MODIFIED:20251110T184736Z
UID:10000186-1767186000-1767200400@nwgreenbay.org
SUMMARY:Closed 1 - 5 pm for New Year's Eve
DESCRIPTION:
URL:https://nwgreenbay.org/nwgbevent/closed-1-5-pm-for-new-years-eve/
LOCATION:WI
CATEGORIES:Office Closure
END:VEVENT
BEGIN:VEVENT
DTSTART;VALUE=DATE:20260101
DTEND;VALUE=DATE:20260102
DTSTAMP:20260422T133443
CREATED:20251120T214035Z
LAST-MODIFIED:20251120T214035Z
UID:10000214-1767225600-1767311999@nwgreenbay.org
SUMMARY:Closed for New Year's Day
DESCRIPTION:
URL:https://nwgreenbay.org/nwgbevent/closed-for-new-years-day/
LOCATION:WI
CATEGORIES:Office Closure
END:VEVENT
BEGIN:VEVENT
DTSTART;VALUE=DATE:20260119
DTEND;VALUE=DATE:20260120
DTSTAMP:20260422T133443
CREATED:20251120T213931Z
LAST-MODIFIED:20251120T213931Z
UID:10000213-1768780800-1768867199@nwgreenbay.org
SUMMARY:Closed for Martin Luther King Jr. Day
DESCRIPTION:
URL:https://nwgreenbay.org/nwgbevent/closed-for-martin-luther-king-jr-day/
LOCATION:WI
CATEGORIES:Office Closure
END:VEVENT
BEGIN:VEVENT
DTSTART;VALUE=DATE:20260216
DTEND;VALUE=DATE:20260217
DTSTAMP:20260422T133443
CREATED:20251120T213815Z
LAST-MODIFIED:20251120T213815Z
UID:10000212-1771200000-1771286399@nwgreenbay.org
SUMMARY:Closed for Presidents' Day
DESCRIPTION:
URL:https://nwgreenbay.org/nwgbevent/closed-for-presidents-day-2/
LOCATION:WI
CATEGORIES:Office Closure
END:VEVENT
BEGIN:VEVENT
DTSTART;TZID=America/Chicago:20260217T173000
DTEND;TZID=America/Chicago:20260217T190000
DTSTAMP:20260422T133443
CREATED:20260210T182146Z
LAST-MODIFIED:20260210T182146Z
UID:10000218-1771349400-1771354800@nwgreenbay.org
SUMMARY:Home & Beyond Series | Do One Thing Diffferent
DESCRIPTION:Discover how a single change can create a powerful ripple effect in your financial life. Thrivent Financial will help you identify one meaningful action you can take right away to feel more confident. Transform the way you share\, save\, and spend!\nThis is a free event\, but you must register at the link in this event listing to attend. A virtual attendance option is available for those who cannot attend in-person.\n\nREGISTER FOR FREE
URL:https://nwgreenbay.org/nwgbevent/home-beyond-series-do-one-thing-different/
LOCATION:NeighborWorks Green Bay
CATEGORIES:Home & Beyond Series
ATTACH;FMTTYPE=image/jpeg:https://nwgreenbay.org/wp-content/uploads/2025/09/Home-and-Beyond-banner.jpg
ORGANIZER;CN="NeighborWorks Green Bay":MAILTO:info@nwgreenbay.org
END:VEVENT
BEGIN:VEVENT
DTSTART;TZID=America/Chicago:20260225T120000
DTEND;TZID=America/Chicago:20260225T180000
DTSTAMP:20260422T133443
CREATED:20260203T200104Z
LAST-MODIFIED:20260203T201129Z
UID:10000217-1772020800-1772042400@nwgreenbay.org
SUMMARY:Give BIG Celebration
DESCRIPTION:Give BIG Celebration \nJoin us as we kick off 24 hours of giving! Give BIG Green Bay runs from noon on February 25 to noon on February 26. NeighborWorks Green Bay be at Legacy First inside the Hotel Northland in downtown Green Bay for drinks\, snacks\, music\, special guests and more! Come meet us and some of our partner organizations who are also participating in Give BIG Green Bay. Then\, join us from 6 – 9 pm for an after party at Zambaldi Beer\, where $1 from each purchase will go into the shared pool for all 50 participating non-profits!
URL:https://nwgreenbay.org/nwgbevent/give-big-celebration/
LOCATION:Legacy First\, 304 N Adams St STE 1\, Green Bay\, 54301\, United States
CATEGORIES:Special Events
ORGANIZER;CN="NeighborWorks Green Bay":MAILTO:info@nwgreenbay.org
END:VEVENT
BEGIN:VEVENT
DTSTART;TZID=America/Chicago:20260321T090000
DTEND;TZID=America/Chicago:20260321T150000
DTSTAMP:20260422T133443
CREATED:20260224T004059Z
LAST-MODIFIED:20260304T215125Z
UID:10000251-1774083600-1774105200@nwgreenbay.org
SUMMARY:Clase de educación para compradores de vivienda
DESCRIPTION:La clase de educación para compradores de vivienda en español está en el salón de NeighborWorks Green Bay. El costo de esta clase es de $50\, no reembolsable. \nLa inscripción cerrará 24 horas antes de la fecha de la clase. \nRegístrate para la clase
URL:https://nwgreenbay.org/nwgbevent/clase-de-educacion-para-compradores-de-vivienda-2/2026-03-21/
LOCATION:NeighborWorks Green Bay
CATEGORIES:Homebuyer Education Class
ORGANIZER;CN="NeighborWorks Green Bay":MAILTO:info@nwgreenbay.org
END:VEVENT
BEGIN:VEVENT
DTSTART;TZID=America/Chicago:20260406T170000
DTEND;TZID=America/Chicago:20260406T200000
DTSTAMP:20260422T133443
CREATED:20260224T000337Z
LAST-MODIFIED:20260304T214613Z
UID:10000221-1775494800-1775505600@nwgreenbay.org
SUMMARY:HOMEBUYER EDUCATION CLASS Part 1
DESCRIPTION:Homebuyer Education class is held in-person over two evenings on Monday and Tuesday in the NeighborWorks Green Bay Community Room. This two-day class will require students to attend both sessions from 5:00 PM to 8:00 PM. There is a non-refundable $50 fee for this class. \nRegistration will close 24 hours before the first class date. \n**You must complete both evenings to complete the class** \n  \nRegister for Class
URL:https://nwgreenbay.org/nwgbevent/homebuyer-education-class-part-1/2026-04-06/
LOCATION:NeighborWorks Green Bay
CATEGORIES:Homebuyer Education Class
ORGANIZER;CN="NeighborWorks Green Bay":MAILTO:info@nwgreenbay.org
END:VEVENT
BEGIN:VEVENT
DTSTART;TZID=America/Chicago:20260407T170000
DTEND;TZID=America/Chicago:20260407T200000
DTSTAMP:20260422T133443
CREATED:20260224T002738Z
LAST-MODIFIED:20260304T213713Z
UID:10000241-1775581200-1775592000@nwgreenbay.org
SUMMARY:HOMEBUYER EDUCATION CLASS Part 2
DESCRIPTION:Homebuyer Education class is held in-person over two evenings on Monday and Tuesday in the NeighborWorks Green Bay Community Room. This two-day class will require students to attend both sessions from 5:00 PM to 8:00 PM. There is a non-refundable $50 fee for this class. \nRegistration will close 24 hours before the first class date. \n**You must complete both evenings to complete the class** \nRegister for Class
URL:https://nwgreenbay.org/nwgbevent/homebuyer-education-class-part-2/2026-04-07/
LOCATION:NeighborWorks Green Bay
CATEGORIES:Homebuyer Education Class
ORGANIZER;CN="NeighborWorks Green Bay":MAILTO:info@nwgreenbay.org
END:VEVENT
BEGIN:VEVENT
DTSTART;TZID=America/Chicago:20260418T090000
DTEND;TZID=America/Chicago:20260418T150000
DTSTAMP:20260422T133443
CREATED:20260224T004059Z
LAST-MODIFIED:20260304T215125Z
UID:10000252-1776502800-1776524400@nwgreenbay.org
SUMMARY:Clase de educación para compradores de vivienda
DESCRIPTION:La clase de educación para compradores de vivienda en español está en el salón de NeighborWorks Green Bay. El costo de esta clase es de $50\, no reembolsable. \nLa inscripción cerrará 24 horas antes de la fecha de la clase. \nRegístrate para la clase
URL:https://nwgreenbay.org/nwgbevent/clase-de-educacion-para-compradores-de-vivienda-2/2026-04-18/
LOCATION:NeighborWorks Green Bay
CATEGORIES:Homebuyer Education Class
ORGANIZER;CN="NeighborWorks Green Bay":MAILTO:info@nwgreenbay.org
END:VEVENT
BEGIN:VEVENT
DTSTART;TZID=America/Chicago:20260423T073000
DTEND;TZID=America/Chicago:20260423T093000
DTSTAMP:20260422T133443
CREATED:20260202T190355Z
LAST-MODIFIED:20260202T190355Z
UID:10000216-1776929400-1776936600@nwgreenbay.org
SUMMARY:Cheers to Volunteers!
DESCRIPTION:Cheers to Volunteers! at NeighborWorks Green Bay \n\nYou’re invited to Cheers to Volunteers! NeighborWorks Green Bay is celebrating our volunteers for all the hard work and dedication they bring to our mission. We hope you’ll join us in the Community Room for refreshments and treats\, opportunities to network with other volunteers and staff\, and of course\, plenty of time to celebrate together the positive work our volunteers are all making toward housing in our community! \nNO RSVP necessary\, just plan to stop in before you start your day….and bring a friend. Questions? Please reach out to Vicki Bokelman at vicki@nwgreenbay.org or 920.593.3716.
URL:https://nwgreenbay.org/nwgbevent/cheers-to-volunteers-2026/
LOCATION:NeighborWorks Green Bay
CATEGORIES:Special Events
ORGANIZER;CN="NeighborWorks Green Bay":MAILTO:info@nwgreenbay.org
END:VEVENT
BEGIN:VEVENT
DTSTART;TZID=America/Chicago:20260428T173000
DTEND;TZID=America/Chicago:20260428T183000
DTSTAMP:20260422T133443
CREATED:20260403T175229Z
LAST-MODIFIED:20260406T213807Z
UID:10000265-1777397400-1777401000@nwgreenbay.org
SUMMARY:Home & Beyond Series | Learn to Grow a Veggie Garden
DESCRIPTION:Join NeighborWorks Green Bay and Green Bay Habitat for Humanity for a Home & Beyond Series workshop focused on Food & Nutrition. In this session\, local experts Beth and Dave Woods will share tips and resources to help you start and sustain a vegetable garden. Participants will learn how to grow their own food affordably\, maintain a healthy garden throughout the season\, and make the most of available space. \nWhether you are new to gardening or looking to improve your skills\, this workshop will provide practical\, easy-to-follow guidance. \nSpace is limited and registration is required.\nRegister for Free
URL:https://nwgreenbay.org/nwgbevent/learn-to-grow-veggie-garden/
LOCATION:NeighborWorks Green Bay
CATEGORIES:Home & Beyond Series
ORGANIZER;CN="NeighborWorks Green Bay":MAILTO:info@nwgreenbay.org
END:VEVENT
BEGIN:VEVENT
DTSTART;TZID=America/Chicago:20260504T170000
DTEND;TZID=America/Chicago:20260504T200000
DTSTAMP:20260422T133443
CREATED:20260224T000337Z
LAST-MODIFIED:20260304T214613Z
UID:10000222-1777914000-1777924800@nwgreenbay.org
SUMMARY:HOMEBUYER EDUCATION CLASS Part 1
DESCRIPTION:Homebuyer Education class is held in-person over two evenings on Monday and Tuesday in the NeighborWorks Green Bay Community Room. This two-day class will require students to attend both sessions from 5:00 PM to 8:00 PM. There is a non-refundable $50 fee for this class. \nRegistration will close 24 hours before the first class date. \n**You must complete both evenings to complete the class** \n  \nRegister for Class
URL:https://nwgreenbay.org/nwgbevent/homebuyer-education-class-part-1/2026-05-04/
LOCATION:NeighborWorks Green Bay
CATEGORIES:Homebuyer Education Class
ORGANIZER;CN="NeighborWorks Green Bay":MAILTO:info@nwgreenbay.org
END:VEVENT
BEGIN:VEVENT
DTSTART;TZID=America/Chicago:20260505T170000
DTEND;TZID=America/Chicago:20260505T200000
DTSTAMP:20260422T133443
CREATED:20260224T002738Z
LAST-MODIFIED:20260304T213713Z
UID:10000242-1778000400-1778011200@nwgreenbay.org
SUMMARY:HOMEBUYER EDUCATION CLASS Part 2
DESCRIPTION:Homebuyer Education class is held in-person over two evenings on Monday and Tuesday in the NeighborWorks Green Bay Community Room. This two-day class will require students to attend both sessions from 5:00 PM to 8:00 PM. There is a non-refundable $50 fee for this class. \nRegistration will close 24 hours before the first class date. \n**You must complete both evenings to complete the class** \nRegister for Class
URL:https://nwgreenbay.org/nwgbevent/homebuyer-education-class-part-2/2026-05-05/
LOCATION:NeighborWorks Green Bay
CATEGORIES:Homebuyer Education Class
ORGANIZER;CN="NeighborWorks Green Bay":MAILTO:info@nwgreenbay.org
END:VEVENT
BEGIN:VEVENT
DTSTART;TZID=America/Chicago:20260516T090000
DTEND;TZID=America/Chicago:20260516T150000
DTSTAMP:20260422T133443
CREATED:20260224T004059Z
LAST-MODIFIED:20260304T215125Z
UID:10000253-1778922000-1778943600@nwgreenbay.org
SUMMARY:Clase de educación para compradores de vivienda
DESCRIPTION:La clase de educación para compradores de vivienda en español está en el salón de NeighborWorks Green Bay. El costo de esta clase es de $50\, no reembolsable. \nLa inscripción cerrará 24 horas antes de la fecha de la clase. \nRegístrate para la clase
URL:https://nwgreenbay.org/nwgbevent/clase-de-educacion-para-compradores-de-vivienda-2/2026-05-16/
LOCATION:NeighborWorks Green Bay
CATEGORIES:Homebuyer Education Class
ORGANIZER;CN="NeighborWorks Green Bay":MAILTO:info@nwgreenbay.org
END:VEVENT
BEGIN:VEVENT
DTSTART;VALUE=DATE:20260525
DTEND;VALUE=DATE:20260526
DTSTAMP:20260422T133443
CREATED:20251120T213508Z
LAST-MODIFIED:20251120T213508Z
UID:10000211-1779667200-1779753599@nwgreenbay.org
SUMMARY:Closed for Memorial Day
DESCRIPTION:
URL:https://nwgreenbay.org/nwgbevent/closed-for-memorial-day-2/
LOCATION:WI
CATEGORIES:Office Closure
END:VEVENT
BEGIN:VEVENT
DTSTART;TZID=America/Chicago:20260527T150000
DTEND;TZID=America/Chicago:20260527T210000
DTSTAMP:20260422T133443
CREATED:20251215T190736Z
LAST-MODIFIED:20251215T190736Z
UID:10000215-1779894000-1779915600@nwgreenbay.org
SUMMARY:Pints with a Purpose: NeighborWorks Green Bay
DESCRIPTION:Pints with a Purpose at Zambaldi Beer \nPints with a Purpose is Zambaldi Beer’s program to give back to our community. $1 from every pint\, flight\, to-go growler or to-go 6 pack sold will be donated to NeighborWorks Green Bay. Join us for a drink to support a good cause!
URL:https://nwgreenbay.org/nwgbevent/pints-with-a-purpose-neighborworks-green-bay-2026/
LOCATION:Zambaldi Beer -1649 S Webster Ave. Green Bay\, WI\, 1649 S Webster Avenue\, Green Bay\, WI\, United States
CATEGORIES:Community Building
ORGANIZER;CN="NeighborWorks Green Bay":MAILTO:info@nwgreenbay.org
END:VEVENT
BEGIN:VEVENT
DTSTART;TZID=America/Chicago:20260601T170000
DTEND;TZID=America/Chicago:20260601T200000
DTSTAMP:20260422T133443
CREATED:20260224T000337Z
LAST-MODIFIED:20260304T214613Z
UID:10000223-1780333200-1780344000@nwgreenbay.org
SUMMARY:HOMEBUYER EDUCATION CLASS Part 1
DESCRIPTION:Homebuyer Education class is held in-person over two evenings on Monday and Tuesday in the NeighborWorks Green Bay Community Room. This two-day class will require students to attend both sessions from 5:00 PM to 8:00 PM. There is a non-refundable $50 fee for this class. \nRegistration will close 24 hours before the first class date. \n**You must complete both evenings to complete the class** \n  \nRegister for Class
URL:https://nwgreenbay.org/nwgbevent/homebuyer-education-class-part-1/2026-06-01/
LOCATION:NeighborWorks Green Bay
CATEGORIES:Homebuyer Education Class
ORGANIZER;CN="NeighborWorks Green Bay":MAILTO:info@nwgreenbay.org
END:VEVENT
BEGIN:VEVENT
DTSTART;TZID=America/Chicago:20260602T170000
DTEND;TZID=America/Chicago:20260602T200000
DTSTAMP:20260422T133443
CREATED:20260224T002738Z
LAST-MODIFIED:20260304T213713Z
UID:10000243-1780419600-1780430400@nwgreenbay.org
SUMMARY:HOMEBUYER EDUCATION CLASS Part 2
DESCRIPTION:Homebuyer Education class is held in-person over two evenings on Monday and Tuesday in the NeighborWorks Green Bay Community Room. This two-day class will require students to attend both sessions from 5:00 PM to 8:00 PM. There is a non-refundable $50 fee for this class. \nRegistration will close 24 hours before the first class date. \n**You must complete both evenings to complete the class** \nRegister for Class
URL:https://nwgreenbay.org/nwgbevent/homebuyer-education-class-part-2/2026-06-02/
LOCATION:NeighborWorks Green Bay
CATEGORIES:Homebuyer Education Class
ORGANIZER;CN="NeighborWorks Green Bay":MAILTO:info@nwgreenbay.org
END:VEVENT
BEGIN:VEVENT
DTSTART;TZID=America/Chicago:20260611T163000
DTEND;TZID=America/Chicago:20260611T193000
DTSTAMP:20260422T133443
CREATED:20260305T233107Z
LAST-MODIFIED:20260421T164139Z
UID:10000261-1781195400-1781206200@nwgreenbay.org
SUMMARY:NeighborWorks Green Bay Annual Celebration 2026 | Stadium View
DESCRIPTION:Join NeighborWorks Green Bay on June 11\, 2026 at Stadium View Bar for our 44th Annual Celebration. \nNew this year\, the Annual Celebration moves to June\, bringing together neighbors\, volunteers\, community partners\, and supporters to celebrate the impact of safe\, stable housing in Greater Green Bay. \nDuring the event\, guests will: \n• Experience the Good Neighbor Tour\, showcasing programs that support homeownership and neighborhood stability• View and bid on artwork in the Birdhouse Auction\, where local artists transform handcrafted birdhouses into unique pieces that support housing initiatives• Hear from community ambassadors who share how access to stable housing has strengthened their families and neighborhoods \nThe Annual Celebration highlights the power of neighbors working together to solve housing challenges and build stronger communities. \nRegistration closes May 22…get your tickets today! \nRegister Today
URL:https://nwgreenbay.org/nwgbevent/annual-celebration-2026/
LOCATION:Stadium View\, 1963 Holmgren Way\, Green Bay\, WI\, 54304\, United States
ORGANIZER;CN="NeighborWorks Green Bay":MAILTO:info@nwgreenbay.org
END:VEVENT
BEGIN:VEVENT
DTSTART;VALUE=DATE:20260619
DTEND;VALUE=DATE:20260620
DTSTAMP:20260422T133443
CREATED:20251120T213328Z
LAST-MODIFIED:20251120T213328Z
UID:10000210-1781827200-1781913599@nwgreenbay.org
SUMMARY:Closed for Juneteenth National Independence Day
DESCRIPTION:
URL:https://nwgreenbay.org/nwgbevent/closed-for-juneteenth-national-independence-day-2/
LOCATION:WI
CATEGORIES:Office Closure
END:VEVENT
BEGIN:VEVENT
DTSTART;TZID=America/Chicago:20260620T090000
DTEND;TZID=America/Chicago:20260620T150000
DTSTAMP:20260422T133443
CREATED:20260224T004059Z
LAST-MODIFIED:20260304T215125Z
UID:10000254-1781946000-1781967600@nwgreenbay.org
SUMMARY:Clase de educación para compradores de vivienda
DESCRIPTION:La clase de educación para compradores de vivienda en español está en el salón de NeighborWorks Green Bay. El costo de esta clase es de $50\, no reembolsable. \nLa inscripción cerrará 24 horas antes de la fecha de la clase. \nRegístrate para la clase
URL:https://nwgreenbay.org/nwgbevent/clase-de-educacion-para-compradores-de-vivienda-2/2026-06-20/
LOCATION:NeighborWorks Green Bay
CATEGORIES:Homebuyer Education Class
ORGANIZER;CN="NeighborWorks Green Bay":MAILTO:info@nwgreenbay.org
END:VEVENT
END:VCALENDAR