BEGIN:VCALENDAR
VERSION:2.0
PRODID:-//NeighborWorks Green Bay - ECPv6.15.20//NONSGML v1.0//EN
CALSCALE:GREGORIAN
METHOD:PUBLISH
X-ORIGINAL-URL:https://nwgreenbay.org
X-WR-CALDESC:Events for NeighborWorks Green Bay
REFRESH-INTERVAL;VALUE=DURATION:PT1H
X-Robots-Tag:noindex
X-PUBLISHED-TTL:PT1H
BEGIN:VTIMEZONE
TZID:America/Chicago
BEGIN:DAYLIGHT
TZOFFSETFROM:-0600
TZOFFSETTO:-0500
TZNAME:CDT
DTSTART:20240310T080000
END:DAYLIGHT
BEGIN:STANDARD
TZOFFSETFROM:-0500
TZOFFSETTO:-0600
TZNAME:CST
DTSTART:20241103T070000
END:STANDARD
BEGIN:DAYLIGHT
TZOFFSETFROM:-0600
TZOFFSETTO:-0500
TZNAME:CDT
DTSTART:20250309T080000
END:DAYLIGHT
BEGIN:STANDARD
TZOFFSETFROM:-0500
TZOFFSETTO:-0600
TZNAME:CST
DTSTART:20251102T070000
END:STANDARD
BEGIN:DAYLIGHT
TZOFFSETFROM:-0600
TZOFFSETTO:-0500
TZNAME:CDT
DTSTART:20260308T080000
END:DAYLIGHT
BEGIN:STANDARD
TZOFFSETFROM:-0500
TZOFFSETTO:-0600
TZNAME:CST
DTSTART:20261101T070000
END:STANDARD
END:VTIMEZONE
BEGIN:VEVENT
DTSTART;TZID=America/Chicago:20250204T170000
DTEND;TZID=America/Chicago:20250204T200000
DTSTAMP:20260422T071403
CREATED:20241202T175840Z
LAST-MODIFIED:20251110T193426Z
UID:10000143-1738688400-1738699200@nwgreenbay.org
SUMMARY:HOMEBUYER EDUCATION CLASS VIA ZOOM – PART 2
DESCRIPTION:February Homebuyer Education class is being held on Monday\, February 3rd and Tuesday\, February 4th. This two-day virtual online homebuyer education class will require students to attend both sessions from 5:00 PM to 8:00 PM on the Zoom Meeting platform. You may use your computer or smart phone to access the class in real time. There is a non-refundable $50 fee for this class.
URL:https://nwgreenbay.org/nwgbevent/homebuyer-education-class-via-zoom-part-2-47/
CATEGORIES:Homebuyer Education Class
END:VEVENT
BEGIN:VEVENT
DTSTART;VALUE=DATE:20250217
DTEND;VALUE=DATE:20250218
DTSTAMP:20260422T071403
CREATED:20250213T165158Z
LAST-MODIFIED:20251110T193331Z
UID:10000176-1739750400-1739836799@nwgreenbay.org
SUMMARY:Closed for Presidents' Day
DESCRIPTION:
URL:https://nwgreenbay.org/nwgbevent/closed-for-presidents-day/
CATEGORIES:Office Closure
END:VEVENT
BEGIN:VEVENT
DTSTART;TZID=America/Chicago:20250303T170000
DTEND;TZID=America/Chicago:20250303T200000
DTSTAMP:20260422T071403
CREATED:20241202T181438Z
LAST-MODIFIED:20251110T193425Z
UID:10000144-1741021200-1741032000@nwgreenbay.org
SUMMARY:HOMEBUYER EDUCATION CLASS VIA ZOOM – PART 1
DESCRIPTION:March Homebuyer Education class is being held on Monday\, March 3rd and Tuesday\, March 4th. This two-day virtual online homebuyer education class will require students to attend both sessions from 5:00 PM to 8:00 PM on the Zoom Meeting platform. You may use your computer or smart phone to access the class in real time. There is a non-refundable $50 fee for this class.
URL:https://nwgreenbay.org/nwgbevent/homebuyer-education-class-via-zoom-part-1-50/
CATEGORIES:Homebuyer Education Class
END:VEVENT
BEGIN:VEVENT
DTSTART;TZID=America/Chicago:20250304T170000
DTEND;TZID=America/Chicago:20250304T200000
DTSTAMP:20260422T071403
CREATED:20241202T181546Z
LAST-MODIFIED:20251110T193425Z
UID:10000145-1741107600-1741118400@nwgreenbay.org
SUMMARY:HOMEBUYER EDUCATION CLASS VIA ZOOM – PART 2
DESCRIPTION:March Homebuyer Education class is being held on Monday\, March 3rd and Tuesday\, March 4th. This two-day virtual online homebuyer education class will require students to attend both sessions from 5:00 PM to 8:00 PM on the Zoom Meeting platform. You may use your computer or smart phone to access the class in real time. There is a non-refundable $50 fee for this class.
URL:https://nwgreenbay.org/nwgbevent/homebuyer-education-class-via-zoom-part-2-48/
CATEGORIES:Homebuyer Education Class
END:VEVENT
BEGIN:VEVENT
DTSTART;TZID=America/Chicago:20250324T140000
DTEND;TZID=America/Chicago:20250324T170000
DTSTAMP:20260422T071403
CREATED:20241202T182123Z
LAST-MODIFIED:20251110T193425Z
UID:10000146-1742824800-1742835600@nwgreenbay.org
SUMMARY:HOMEBUYER EDUCATION CLASS VIA ZOOM – PART 1
DESCRIPTION:March Afternoon Homebuyer Education class is being held on Monday\, March 24th and Tuesday\, March 25th. This two-day virtual online homebuyer education class will require students to attend both sessions from 2:00 PM to 5:00 PM on the Zoom Meeting platform. You may use your computer or smart phone to access the class in real time. There is a non-refundable $50 fee for this class.
URL:https://nwgreenbay.org/nwgbevent/homebuyer-education-class-via-zoom-part-1-51/
CATEGORIES:Homebuyer Education Class
END:VEVENT
BEGIN:VEVENT
DTSTART;TZID=America/Chicago:20250325T140000
DTEND;TZID=America/Chicago:20250325T170000
DTSTAMP:20260422T071403
CREATED:20241202T182250Z
LAST-MODIFIED:20251110T193424Z
UID:10000147-1742911200-1742922000@nwgreenbay.org
SUMMARY:HOMEBUYER EDUCATION CLASS VIA ZOOM – PART 2
DESCRIPTION:March Afternoon Homebuyer Education class is being held on Monday\, March 24th and Tuesday\, March 25th. This two-day virtual online homebuyer education class will require students to attend both sessions from 2:00 PM to 5:00 PM on the Zoom Meeting platform. You may use your computer or smart phone to access the class in real time. There is a non-refundable $50 fee for this class.
URL:https://nwgreenbay.org/nwgbevent/homebuyer-education-class-via-zoom-part-2-49/
CATEGORIES:Homebuyer Education Class
END:VEVENT
BEGIN:VEVENT
DTSTART;TZID=America/Chicago:20250403T180000
DTEND;TZID=America/Chicago:20250403T193000
DTSTAMP:20260422T071403
CREATED:20250304T225441Z
LAST-MODIFIED:20250304T225657Z
UID:10000187-1743703200-1743708600@nwgreenbay.org
SUMMARY:Free: Bountiful Branches Mini-Class
DESCRIPTION:Learn how to grow food-bearing trees and shrubs like raspberries\, elderberries\, apples\, and more in this free training. Dillon Weist\, Manager of the Bounty Garden at Northeast Wisconsin Technical College\, will cover plant selection\, spacing\, pruning\, harvesting\, and preservation. Join in person or virtually via Zoom! REGISTER TODAY!
URL:https://nwgreenbay.org/nwgbevent/free-bountiful-branches-mini-class/
LOCATION:Brown County Central Library\, 515 Pine St\, Green Bay\, WI\, 54301\, United States
CATEGORIES:Community Building
END:VEVENT
BEGIN:VEVENT
DTSTART;TZID=America/Chicago:20250405T090000
DTEND;TZID=America/Chicago:20250405T150000
DTSTAMP:20260422T071403
CREATED:20250207T182500Z
LAST-MODIFIED:20251110T193424Z
UID:10000170-1743843600-1743865200@nwgreenbay.org
SUMMARY:Clase de educación para compradores de vivienda de abril de 2025
DESCRIPTION:La clase de educación para compradores de vivienda en español de abril de 2025 se llevará a cabo el sábado 5 de abril de 9:00 a. m. a 3:00 p. m. en la sala de educación de NeighborWorks Green Bay. Hay una tarifa no reembolsable de $50 para esta clase.
URL:https://nwgreenbay.org/nwgbevent/clase-de-educacion-para-compradores-de-vivienda-de-abril-de-2025/
LOCATION:NeighborWorks Green Bay
CATEGORIES:Homebuyer Education Class
END:VEVENT
BEGIN:VEVENT
DTSTART;TZID=America/Chicago:20250407T170000
DTEND;TZID=America/Chicago:20250407T200000
DTSTAMP:20260422T071403
CREATED:20241202T182504Z
LAST-MODIFIED:20251110T193424Z
UID:10000148-1744045200-1744056000@nwgreenbay.org
SUMMARY:HOMEBUYER EDUCATION CLASS VIA ZOOM – PART 1
DESCRIPTION:April Homebuyer Education class is being held on Monday\, April 7th and Tuesday\, April 8th. This two-day virtual online homebuyer education class will require students to attend both sessions from 5:00 PM to 8:00 PM on the Zoom Meeting platform. You may use your computer or smart phone to access the class in real time. There is a non-refundable $50 fee for this class.
URL:https://nwgreenbay.org/nwgbevent/homebuyer-education-class-via-zoom-part-1-52/
CATEGORIES:Homebuyer Education Class
END:VEVENT
BEGIN:VEVENT
DTSTART;TZID=America/Chicago:20250408T170000
DTEND;TZID=America/Chicago:20250408T200000
DTSTAMP:20260422T071403
CREATED:20241202T183925Z
LAST-MODIFIED:20251110T193423Z
UID:10000149-1744131600-1744142400@nwgreenbay.org
SUMMARY:HOMEBUYER EDUCATION CLASS VIA ZOOM – PART 2
DESCRIPTION:April Homebuyer Education class is being held on Monday\, April 7th and Tuesday\, April 8th. This two-day virtual online homebuyer education class will require students to attend both sessions from 5:00 PM to 8:00 PM on the Zoom Meeting platform. You may use your computer or smart phone to access the class in real time. There is a non-refundable $50 fee for this class.
URL:https://nwgreenbay.org/nwgbevent/homebuyer-education-class-via-zoom-part-2-50/
CATEGORIES:Homebuyer Education Class
END:VEVENT
BEGIN:VEVENT
DTSTART;TZID=America/Chicago:20250421T140000
DTEND;TZID=America/Chicago:20250421T170000
DTSTAMP:20260422T071403
CREATED:20241202T184144Z
LAST-MODIFIED:20251110T193423Z
UID:10000150-1745244000-1745254800@nwgreenbay.org
SUMMARY:HOMEBUYER EDUCATION CLASS VIA ZOOM – PART 1
DESCRIPTION:April Afternoon Homebuyer Education class is being held on Monday\, April 21st and Tuesday\, April 22nd. This two-day virtual online homebuyer education class will require students to attend both sessions from 2:00 PM to 5:00 PM on the Zoom Meeting platform. You may use your computer or smart phone to access the class in real time. There is a non-refundable $50 fee for this class.
URL:https://nwgreenbay.org/nwgbevent/homebuyer-education-class-via-zoom-part-1-53/
CATEGORIES:Homebuyer Education Class
END:VEVENT
BEGIN:VEVENT
DTSTART;TZID=America/Chicago:20250422T140000
DTEND;TZID=America/Chicago:20250422T170000
DTSTAMP:20260422T071403
CREATED:20241202T184256Z
LAST-MODIFIED:20251110T193423Z
UID:10000151-1745330400-1745341200@nwgreenbay.org
SUMMARY:HOMEBUYER EDUCATION CLASS VIA ZOOM – PART 2
DESCRIPTION:April Afternoon Homebuyer Education class is being held on Monday\, April 21st and Tuesday\, April 22nd. This two-day virtual online homebuyer education class will require students to attend both sessions from 2:00 PM to 5:00 PM on the Zoom Meeting platform. You may use your computer or smart phone to access the class in real time. There is a non-refundable $50 fee for this class.
URL:https://nwgreenbay.org/nwgbevent/homebuyer-education-class-via-zoom-part-2-51/
CATEGORIES:Homebuyer Education Class
END:VEVENT
BEGIN:VEVENT
DTSTART;TZID=America/Chicago:20250506T170000
DTEND;TZID=America/Chicago:20250506T200000
DTSTAMP:20260422T071403
CREATED:20250207T182750Z
LAST-MODIFIED:20251110T193422Z
UID:10000171-1746550800-1746561600@nwgreenbay.org
SUMMARY:Clase de educación para compradores de vivienda de mayo de 2025 Parte 1
DESCRIPTION:La clase de educación para compradores de vivienda en español de mayo de 2025 se llevará a cabo el martes 6 de mayo y el miércoles 7 de mayo de 5:00 p. m. a 8:00 p. m. ambas noches en la sala de educación de NeighborWorks Green Bay. Hay una tarifa no reembolsable de $50 para esta clase.
URL:https://nwgreenbay.org/nwgbevent/clase-de-educacion-para-compradores-de-vivienda-de-mayo-de-2025-parte-1/
LOCATION:NeighborWorks Green Bay
CATEGORIES:Homebuyer Education Class
END:VEVENT
BEGIN:VEVENT
DTSTART;TZID=America/Chicago:20250507T170000
DTEND;TZID=America/Chicago:20250507T200000
DTSTAMP:20260422T071403
CREATED:20250207T182922Z
LAST-MODIFIED:20251110T193422Z
UID:10000172-1746637200-1746648000@nwgreenbay.org
SUMMARY:Clase de educación para compradores de vivienda de mayo de 2025 Parte 2
DESCRIPTION:La clase de educación para compradores de vivienda en español de mayo de 2025 se llevará a cabo el martes 6 de mayo y el miércoles 7 de mayo de 5:00 p. m. a 8:00 p. m. ambas noches en la sala de educación de NeighborWorks Green Bay. Hay una tarifa no reembolsable de $50 para esta clase.
URL:https://nwgreenbay.org/nwgbevent/clase-de-educacion-para-compradores-de-vivienda-de-mayo-de-2025-parte-2/
LOCATION:NeighborWorks Green Bay
CATEGORIES:Homebuyer Education Class
END:VEVENT
BEGIN:VEVENT
DTSTART;TZID=America/Chicago:20250512T170000
DTEND;TZID=America/Chicago:20250512T200000
DTSTAMP:20260422T071403
CREATED:20241220T222356Z
LAST-MODIFIED:20251110T193422Z
UID:10000153-1747069200-1747080000@nwgreenbay.org
SUMMARY:HOMEBUYER EDUCATION CLASS - In Person - PART 1
DESCRIPTION:May 2025 Homebuyer Education class is being held on Monday\, May 12th and Tuesday\, May 13th at 437 S. Jackson Street in Green Bay. This two-day class will require students to attend both sessions from 5:00 PM to 8:00 PM. There is a non-refundable $50 fee for this class.\nRegistration will close 24 hours before the first class date.\n**You must complete both classes**
URL:https://nwgreenbay.org/nwgbevent/homebuyer-education-class-via-zoom-part-1-54/
CATEGORIES:Homebuyer Education Class
END:VEVENT
BEGIN:VEVENT
DTSTART;TZID=America/Chicago:20250513T170000
DTEND;TZID=America/Chicago:20250513T200000
DTSTAMP:20260422T071403
CREATED:20241220T222508Z
LAST-MODIFIED:20251110T193421Z
UID:10000154-1747155600-1747166400@nwgreenbay.org
SUMMARY:HOMEBUYER EDUCATION CLASS - In Person - PART 2
DESCRIPTION:May 2025 Homebuyer Education class is being held on Monday\, May 12th and Tuesday\, May 13th at 437 S. Jackson Street in Green Bay. This two-day class will require students to attend both sessions from 5:00 PM to 8:00 PM. There is a non-refundable $50 fee for this class.\nRegistration will close 24 hours before the first class date.\n**You must complete both classes**
URL:https://nwgreenbay.org/nwgbevent/homebuyer-education-class-via-zoom-part-2-52/
CATEGORIES:Homebuyer Education Class
END:VEVENT
BEGIN:VEVENT
DTSTART;VALUE=DATE:20250526
DTEND;VALUE=DATE:20250527
DTSTAMP:20260422T071403
CREATED:20250213T165305Z
LAST-MODIFIED:20251110T193331Z
UID:10000177-1748217600-1748303999@nwgreenbay.org
SUMMARY:Closed for Memorial Day
DESCRIPTION:
URL:https://nwgreenbay.org/nwgbevent/closed-for-memorial-day/
CATEGORIES:Office Closure
END:VEVENT
BEGIN:VEVENT
DTSTART;TZID=America/Chicago:20250602T170000
DTEND;TZID=America/Chicago:20250602T200000
DTSTAMP:20260422T071403
CREATED:20241220T222632Z
LAST-MODIFIED:20251110T192330Z
UID:10000155-1748883600-1748894400@nwgreenbay.org
SUMMARY:HOMEBUYER EDUCATION CLASS - In Person - PART 1
DESCRIPTION:June 2025 Homebuyer Education class is being held on Monday\, June 2nd and Tuesday\, June 3rd at 437 S. Jackson Street in Green Bay. This two-day class will require students to attend both sessions from 5:00 PM to 8:00 PM. There is a non-refundable $50 fee for this class.\nRegistration will close 24 hours before the first class date.\n**You must complete both classes**
URL:https://nwgreenbay.org/nwgbevent/homebuyer-education-class-via-zoom-part-1-55/
CATEGORIES:Homebuyer Education Class
END:VEVENT
BEGIN:VEVENT
DTSTART;TZID=America/Chicago:20250603T170000
DTEND;TZID=America/Chicago:20250603T200000
DTSTAMP:20260422T071403
CREATED:20241220T222751Z
LAST-MODIFIED:20251110T192330Z
UID:10000156-1748970000-1748980800@nwgreenbay.org
SUMMARY:HOMEBUYER EDUCATION CLASS - In Person - PART 2
DESCRIPTION:June 2025 Homebuyer Education class is being held on Monday\, June 2nd and Tuesday\, June 3rd at 437 S. Jackson Street in Green Bay. This two-day class will require students to attend both sessions from 5:00 PM to 8:00 PM. There is a non-refundable $50 fee for this class.\nRegistration will close 24 hours before the first class date.\n**You must complete both classes**
URL:https://nwgreenbay.org/nwgbevent/homebuyer-education-class-via-zoom-part-2-53/
CATEGORIES:Homebuyer Education Class
END:VEVENT
BEGIN:VEVENT
DTSTART;TZID=America/Chicago:20250607T080000
DTEND;TZID=America/Chicago:20250615T170000
DTSTAMP:20260422T071403
CREATED:20250109T151522Z
LAST-MODIFIED:20251110T192421Z
UID:10000169-1749283200-1750006800@nwgreenbay.org
SUMMARY:NeighborWorks Week
DESCRIPTION:Mark your calendars for a week of celebrating strong communities and local partnerships!
URL:https://nwgreenbay.org/nwgbevent/neighborworks-week-8/
CATEGORIES:NeighborWorks Week
END:VEVENT
BEGIN:VEVENT
DTSTART;TZID=America/Chicago:20250607T090000
DTEND;TZID=America/Chicago:20250607T150000
DTSTAMP:20260422T071403
CREATED:20250207T183111Z
LAST-MODIFIED:20251110T192329Z
UID:10000173-1749286800-1749308400@nwgreenbay.org
SUMMARY:Clase de educación para compradores de vivienda de junio de 2025
DESCRIPTION:La clase de educación para compradores de vivienda en español de junio de 2025 se llevará a cabo el sábado 7 de junio de 9:00 a. m. a 3:00 p. m. en la sala de educación de NeighborWorks Green Bay. Hay una tarifa no reembolsable de $50 para esta clase.
URL:https://nwgreenbay.org/nwgbevent/clase-de-educacion-para-compradores-de-vivienda-de-junio-de-2025/
LOCATION:NeighborWorks Green Bay
CATEGORIES:Homebuyer Education Class
END:VEVENT
BEGIN:VEVENT
DTSTART;TZID=America/Chicago:20250609T130000
DTEND;TZID=America/Chicago:20250609T180000
DTSTAMP:20260422T071403
CREATED:20250513T154754Z
LAST-MODIFIED:20250519T182221Z
UID:10000189-1749474000-1749492000@nwgreenbay.org
SUMMARY:Ribbon Cutting & Open House at 929 N Broadway
DESCRIPTION:Ribbon Cutting & Open House \nJoin NeighborWorks Green Bay as we kick off NeighborWorks Week with the ribbon cutting and open house of a brand-new home at 929 N. Broadway – a powerful reflection of what community collaboration can build. \n📅 June 9\, 2025 \n🕓 1:00 pm (Ribbon Cutting & Press Conference) \n🕓 2:00 – 6:00 pm (Open House) \n📍 Location: 929 N. Broadway\, Green Bay\, WI \nThis home was made possible through the hands-on expertise of the Green Bay Area Public School District’s Bridges Construction & Renovation Program\, where local students are helping shape the future of our neighborhoods. \nWith generous funding from GLC Minerals and impact investments through the Greater Green Bay Community Foundation and Forward Community Investments\, this project shows what’s possible when values\, vision\, and financial innovation come together. \n🔨 Walk through the home. \n🤝 Meet the partners. \n🎉 Celebrate the launch of NeighborWorks Week—a nationwide celebration of community development and resident leadership. \nLet’s gather to honor this work\, uplift our shared commitment to equitable housing\, and continue building strong\, resilient neighborhoods in Green Bay. \nWe can’t wait to welcome you!
URL:https://nwgreenbay.org/nwgbevent/ribbon-cutting-and-open-house-n-broadway/
LOCATION:929 N Broadway\, 929 N Broadway\, Green Bay\, WI\, 54303\, United States
CATEGORIES:NeighborWorks Week
ORGANIZER;CN="NeighborWorks Green Bay":MAILTO:info@nwgreenbay.org
END:VEVENT
BEGIN:VEVENT
DTSTART;TZID=America/Chicago:20250610T170000
DTEND;TZID=America/Chicago:20250610T180000
DTSTAMP:20260422T071403
CREATED:20250530T160010Z
LAST-MODIFIED:20250530T160010Z
UID:10000192-1749574800-1749578400@nwgreenbay.org
SUMMARY:Homeownership Info at City East Center
DESCRIPTION:Homeownership Info at City East Center \n\nJoin us during NeighborWorks Week at City East Center to learn how to get started in your homeownership journey.\n\nLearn to prepare for homeownership\nSee real scenarios of homes for sale\nGet your questions answered\n\nFREE and open to the public
URL:https://nwgreenbay.org/nwgbevent/homeownership-city-east-center/
LOCATION:City East Center\, 111 N Roosevelt St\, Green Bay\, 54301\, United States
CATEGORIES:NeighborWorks Week
ORGANIZER;CN="NeighborWorks Green Bay":MAILTO:info@nwgreenbay.org
END:VEVENT
BEGIN:VEVENT
DTSTART;TZID=America/Chicago:20250612T170000
DTEND;TZID=America/Chicago:20250612T190000
DTSTAMP:20260422T071403
CREATED:20250519T182002Z
LAST-MODIFIED:20250519T182151Z
UID:10000190-1749747600-1749754800@nwgreenbay.org
SUMMARY:Meet Me at 815
DESCRIPTION:Meet Me at 815 \nThis is your invitation to gather with neighbors\, enjoy live music\, and share your voice about the future of 815 Chicago Street. We’re dreaming big – and we want to build it with you.\n\n437 S. Jackson Street Parking Lot (NeighborWorks Green Bay)Bring your friends\, your ideas\, and your neighborhood pride!
URL:https://nwgreenbay.org/nwgbevent/meet-me-at-815/
LOCATION:NeighborWorks Green Bay
CATEGORIES:NeighborWorks Week
ORGANIZER;CN="NeighborWorks Green Bay":MAILTO:info@nwgreenbay.org
END:VEVENT
BEGIN:VEVENT
DTSTART;TZID=America/Chicago:20250613T170000
DTEND;TZID=America/Chicago:20250613T190000
DTSTAMP:20260422T071403
CREATED:20250530T155154Z
LAST-MODIFIED:20250530T165515Z
UID:10000191-1749834000-1749841200@nwgreenbay.org
SUMMARY:Cheers to Community at Zambaldi Beer
DESCRIPTION:Cheers to Community at Zambaldi Beer \nAs we celebrate the conclusion of NeighborWorks Week\, join us for a pint and learn more about how NeighborWorks Green Bay solves housing challenges and builds stronger communities.
URL:https://nwgreenbay.org/nwgbevent/cheers-to-community/
LOCATION:Zambaldi Beer -1649 S Webster Ave. Green Bay\, WI\, 1649 S Webster Avenue\, Green Bay\, WI\, United States
CATEGORIES:NeighborWorks Week
ORGANIZER;CN="NeighborWorks Green Bay":MAILTO:info@nwgreenbay.org
END:VEVENT
BEGIN:VEVENT
DTSTART;VALUE=DATE:20250619
DTEND;VALUE=DATE:20250620
DTSTAMP:20260422T071403
CREATED:20250213T165407Z
LAST-MODIFIED:20251110T192404Z
UID:10000178-1750291200-1750377599@nwgreenbay.org
SUMMARY:Closed for Juneteenth National Independence Day
DESCRIPTION:
URL:https://nwgreenbay.org/nwgbevent/closed-for-juneteenth-national-independence-day/
CATEGORIES:Office Closure
END:VEVENT
BEGIN:VEVENT
DTSTART;TZID=America/Chicago:20250620T130000
DTEND;TZID=America/Chicago:20250620T143000
DTSTAMP:20260422T071403
CREATED:20250606T175420Z
LAST-MODIFIED:20250620T132255Z
UID:10000193-1750424400-1750429800@nwgreenbay.org
SUMMARY:Housing Community Conversation with Rep Amaad Rivera-Wagner
DESCRIPTION:Housing Community Conversation with Rep Amaad Rivera-Wagner \nJoin us as we welcome State Representative Amaad Rivera-Wagner for a discussion on housing. Open to the community. RSVP to attend.\nRSVP
URL:https://nwgreenbay.org/nwgbevent/housing-community-conversation/
LOCATION:NeighborWorks Green Bay
CATEGORIES:NeighborWorks Week
ORGANIZER;CN="NeighborWorks Green Bay":MAILTO:info@nwgreenbay.org
END:VEVENT
BEGIN:VEVENT
DTSTART;VALUE=DATE:20250704
DTEND;VALUE=DATE:20250705
DTSTAMP:20260422T071403
CREATED:20250213T165450Z
LAST-MODIFIED:20251110T192404Z
UID:10000179-1751587200-1751673599@nwgreenbay.org
SUMMARY:Closed for Independence Day
DESCRIPTION:
URL:https://nwgreenbay.org/nwgbevent/closed-for-independence-day/
CATEGORIES:Office Closure
END:VEVENT
BEGIN:VEVENT
DTSTART;TZID=America/Chicago:20250708T170000
DTEND;TZID=America/Chicago:20250708T200000
DTSTAMP:20260422T071403
CREATED:20250207T183307Z
LAST-MODIFIED:20251110T192329Z
UID:10000174-1751994000-1752004800@nwgreenbay.org
SUMMARY:Clase de educación para compradores de vivienda de julio de 2025 Parte 1
DESCRIPTION:La clase de educación para compradores de vivienda en español de julio de 2025 se llevará a cabo el martes 8 de julio y el miércoles 9 de julio de 5:00 p. m. a 8:00 p. m. ambas noches en la sala de educación de NeighborWorks Green Bay. Hay una tarifa no reembolsable de $50 para esta clase.
URL:https://nwgreenbay.org/nwgbevent/clase-de-educacion-para-compradores-de-vivienda-de-julio-de-2025-parte-1/
LOCATION:NeighborWorks Green Bay
CATEGORIES:Homebuyer Education Class
END:VEVENT
BEGIN:VEVENT
DTSTART;TZID=America/Chicago:20250709T170000
DTEND;TZID=America/Chicago:20250709T200000
DTSTAMP:20260422T071403
CREATED:20250207T183428Z
LAST-MODIFIED:20251110T192329Z
UID:10000175-1752080400-1752091200@nwgreenbay.org
SUMMARY:Clase de educación para compradores de vivienda de julio de 2025 Parte 2
DESCRIPTION:La clase de educación para compradores de vivienda en español de julio de 2025 se llevará a cabo el martes 8 de julio y el miércoles 9 de julio de 5:00 p. m. a 8:00 p. m. ambas noches en la sala de educación de NeighborWorks Green Bay. Hay una tarifa no reembolsable de $50 para esta clase.
URL:https://nwgreenbay.org/nwgbevent/clase-de-educacion-para-compradores-de-vivienda-de-julio-de-2025-parte-2/
LOCATION:NeighborWorks Green Bay
CATEGORIES:Homebuyer Education Class
END:VEVENT
END:VCALENDAR