BEGIN:VCALENDAR
VERSION:2.0
PRODID:-//NeighborWorks Green Bay - ECPv6.15.20//NONSGML v1.0//EN
CALSCALE:GREGORIAN
METHOD:PUBLISH
X-ORIGINAL-URL:https://nwgreenbay.org
X-WR-CALDESC:Events for NeighborWorks Green Bay
REFRESH-INTERVAL;VALUE=DURATION:PT1H
X-Robots-Tag:noindex
X-PUBLISHED-TTL:PT1H
BEGIN:VTIMEZONE
TZID:America/Chicago
BEGIN:DAYLIGHT
TZOFFSETFROM:-0600
TZOFFSETTO:-0500
TZNAME:CDT
DTSTART:20210314T080000
END:DAYLIGHT
BEGIN:STANDARD
TZOFFSETFROM:-0500
TZOFFSETTO:-0600
TZNAME:CST
DTSTART:20211107T070000
END:STANDARD
BEGIN:DAYLIGHT
TZOFFSETFROM:-0600
TZOFFSETTO:-0500
TZNAME:CDT
DTSTART:20220313T080000
END:DAYLIGHT
BEGIN:STANDARD
TZOFFSETFROM:-0500
TZOFFSETTO:-0600
TZNAME:CST
DTSTART:20221106T070000
END:STANDARD
BEGIN:DAYLIGHT
TZOFFSETFROM:-0600
TZOFFSETTO:-0500
TZNAME:CDT
DTSTART:20230312T080000
END:DAYLIGHT
BEGIN:STANDARD
TZOFFSETFROM:-0500
TZOFFSETTO:-0600
TZNAME:CST
DTSTART:20231105T070000
END:STANDARD
BEGIN:DAYLIGHT
TZOFFSETFROM:-0600
TZOFFSETTO:-0500
TZNAME:CDT
DTSTART:20240310T080000
END:DAYLIGHT
BEGIN:STANDARD
TZOFFSETFROM:-0500
TZOFFSETTO:-0600
TZNAME:CST
DTSTART:20241103T070000
END:STANDARD
BEGIN:DAYLIGHT
TZOFFSETFROM:-0600
TZOFFSETTO:-0500
TZNAME:CDT
DTSTART:20250309T080000
END:DAYLIGHT
BEGIN:STANDARD
TZOFFSETFROM:-0500
TZOFFSETTO:-0600
TZNAME:CST
DTSTART:20251102T070000
END:STANDARD
BEGIN:DAYLIGHT
TZOFFSETFROM:-0600
TZOFFSETTO:-0500
TZNAME:CDT
DTSTART:20260308T080000
END:DAYLIGHT
BEGIN:STANDARD
TZOFFSETFROM:-0500
TZOFFSETTO:-0600
TZNAME:CST
DTSTART:20261101T070000
END:STANDARD
BEGIN:DAYLIGHT
TZOFFSETFROM:-0600
TZOFFSETTO:-0500
TZNAME:CDT
DTSTART:20270314T080000
END:DAYLIGHT
BEGIN:STANDARD
TZOFFSETFROM:-0500
TZOFFSETTO:-0600
TZNAME:CST
DTSTART:20271107T070000
END:STANDARD
END:VTIMEZONE
BEGIN:VEVENT
DTSTART;TZID=America/Chicago:20260225T120000
DTEND;TZID=America/Chicago:20260225T180000
DTSTAMP:20260422T065347
CREATED:20260203T200104Z
LAST-MODIFIED:20260203T201129Z
UID:10000217-1772020800-1772042400@nwgreenbay.org
SUMMARY:Give BIG Celebration
DESCRIPTION:Give BIG Celebration \nJoin us as we kick off 24 hours of giving! Give BIG Green Bay runs from noon on February 25 to noon on February 26. NeighborWorks Green Bay be at Legacy First inside the Hotel Northland in downtown Green Bay for drinks\, snacks\, music\, special guests and more! Come meet us and some of our partner organizations who are also participating in Give BIG Green Bay. Then\, join us from 6 – 9 pm for an after party at Zambaldi Beer\, where $1 from each purchase will go into the shared pool for all 50 participating non-profits!
URL:https://nwgreenbay.org/nwgbevent/give-big-celebration/
LOCATION:Legacy First\, 304 N Adams St STE 1\, Green Bay\, 54301\, United States
CATEGORIES:Special Events
ORGANIZER;CN="NeighborWorks Green Bay":MAILTO:info@nwgreenbay.org
END:VEVENT
BEGIN:VEVENT
DTSTART;TZID=America/Chicago:20251023T170000
DTEND;TZID=America/Chicago:20251023T200000
DTSTAMP:20260422T065347
CREATED:20250724T151019Z
LAST-MODIFIED:20251110T192240Z
UID:10000200-1761238800-1761249600@nwgreenbay.org
SUMMARY:NeighborWorks Green Bay Annual Celebration
DESCRIPTION:Be a part of our mission to create lasting change. Your generous support keeps this event free for our community\, celebrating our year’s accomplishments and charting a bold vision for the future. Together\, with community partners\, we are tackling housing challenges and building stronger communities. Your contribution will make a direct impact\, ensuring that we continue to foster healthy\, vibrant communities. \nREGISTER TODAY and join us in making a difference! \nREGISTER\n📅 October 23\, 2025 5:00 – 8:00pm \n🧑‍🏫 Annual Meeting 4:00pm – open to the public (no reservation required) \n🎉 Annual Celebration \n\nNetworking 5:00pm\nDinner 6:00pm\nPresentation 6:30pm\n\n📍The Ravine | Green Bay \n🏷️ Suggested Donation $25
URL:https://nwgreenbay.org/nwgbevent/annual-celebration-2025/
LOCATION:The Ravine\, 2633 Manitowoc Rd\, Green Bay\, WI\, 54311\, United States
CATEGORIES:Special Events
ATTACH;FMTTYPE=image/png:https://nwgreenbay.org/wp-content/uploads/2025/07/AC-Graphic-with-Sponsor-Banner-scaled.png
ORGANIZER;CN="NeighborWorks Green Bay":MAILTO:info@nwgreenbay.org
END:VEVENT
BEGIN:VEVENT
DTSTART;TZID=America/Chicago:20241107T170000
DTEND;TZID=America/Chicago:20241107T200000
DTSTAMP:20260422T065347
CREATED:20240724T182645Z
LAST-MODIFIED:20251110T201720Z
UID:10000132-1730998800-1731009600@nwgreenbay.org
SUMMARY:NeighborWorks Green Bay Annual Event
DESCRIPTION:Please join us at our 42nd Annual Celebration at The Ravine Pub\, Grill & Banquet Hall 2633 Manitowoc Rd\, Green Bay\, WI 54311\, where food\, networking\, and fun await! The registration link to this free event will be available in early October.  With your support\, we are looking forward to another fantastic celebration!
URL:https://nwgreenbay.org/nwgbevent/neighborworks-green-bay-annual-event/
LOCATION:The Ravine\, 2633 Manitowoc Rd\, Green Bay\, WI\, 54311\, United States
CATEGORIES:Special Events
END:VEVENT
BEGIN:VEVENT
DTSTART;TZID=America/Chicago:20231102T170000
DTEND;TZID=America/Chicago:20231102T200000
DTSTAMP:20260422T065347
CREATED:20230905T155138Z
LAST-MODIFIED:20251110T202021Z
UID:10000094-1698944400-1698955200@nwgreenbay.org
SUMMARY:NeighborWorks Green Bay's Annual Celebration
DESCRIPTION:NEIGHBORWORKS GREEN BAY’S ANNUAL CELEBRATION sponsored by\nAmerican Foods Group \nThursday\, November 2nd from 5 – 8 pm \nRavine Pub\, Grill & Banquet Hall – 2633 Manitowoc Road in Green Bay\, WI \nThanks to our partners\, supporters\, and the community\, we have reached our maximum capacity for our celebration.   Please consider participating by making a gift to continue the NeighborWorks Green Bay’s mission of solving housing challenges and building stronger communities by clicking HERE.
URL:https://nwgreenbay.org/nwgbevent/neighborworks-green-bays-annual-celebration-2/
LOCATION:The Ravine\, 2633 Manitowoc Rd\, Green Bay\, WI\, 54311\, United States
CATEGORIES:Special Events
ORGANIZER;CN="NeighborWorks Green Bay":MAILTO:info@nwgreenbay.org
END:VEVENT
BEGIN:VEVENT
DTSTART;TZID=America/Chicago:20230830T153000
DTEND;TZID=America/Chicago:20230830T180000
DTSTAMP:20260422T065347
CREATED:20230824T143549Z
LAST-MODIFIED:20251110T202040Z
UID:10000052-1693409400-1693418400@nwgreenbay.org
SUMMARY:NeighborWorks Green Bay Open House - 1208 Doty Street
DESCRIPTION:Please help us to celebrate our second Bridges built home at our Open House on August 30th anytime between 3:30-6:00pm at 1208 Doty Street.  We are looking forward to your visit\, if only to stop in for a quick tour and hello.
URL:https://nwgreenbay.org/nwgbevent/neighborworks-green-bay-open-house-1208-doty-street/
CATEGORIES:Special Events
END:VEVENT
BEGIN:VEVENT
DTSTART;TZID=America/Chicago:20230829T153000
DTEND;TZID=America/Chicago:20230829T173000
DTSTAMP:20260422T065347
CREATED:20230824T143157Z
LAST-MODIFIED:20251110T202046Z
UID:10000050-1693323000-1693330200@nwgreenbay.org
SUMMARY:Multifamily Mutual Community Kick-off Event
DESCRIPTION:Join us at Bay Beach Amusement Park!  We’ll be at Shelter 3 – near the Zippin Pippin. \nWe are officially launching Multifamily Mutual in August! We are throwing it back and hosting a community-wide kick off and goodbye to summer picnic at Bay Beach. We’ll be inviting the whole NeighborWorks Green Bay family including tenants\, volunteers\, staff\, and neighbors. It’s going to be a whole lot of family-friendly fun with rides and food. You and yours are invited to come and kick-off this campaign in style! Wear your NeighborWorks Green Bay finest (if you’ve got it) and let’s build our community\, TOGETHER! \n  \n 
URL:https://nwgreenbay.org/nwgbevent/multifamily-mutual-community-kick-off-event/
CATEGORIES:Special Events
END:VEVENT
BEGIN:VEVENT
DTSTART;TZID=America/Chicago:20230221T170000
DTEND;TZID=America/Chicago:20230221T230000
DTSTAMP:20260422T065347
CREATED:20230216T172147Z
LAST-MODIFIED:20251110T202213Z
UID:10000046-1676998800-1677020400@nwgreenbay.org
SUMMARY:NWGB's Community Housewarming
DESCRIPTION:NeighborWorks Green Bay is hosting a virtual Community Housewarming from 5-11pm on February 21st at one of our renovation projects being completed by Bridges high school students. During this event\, volunteers dedicated to our mission will help us turn this house\, currently under construction\, into a home by asking the community to “buy” pieces of furniture with a donation to Give Big Green Bay https://www.givebiggreenbay.org/organizations/neighborworks-green-bay.  \nTune into both Facebook LIVE and Instagram Reels to see the transformation throughout the evening as donations as little as $10 to NeighborWorks Green Bay provides affordable housing in our community. \nFacebook: https://www.facebook.com/NeighborWorks.Green.Bay  \nInstagram: https://www.instagram.com/nwgreenbay/ \nThank you to our Give Big Green Bay Sponsoring Organization Associated Bank Foundation!
URL:https://nwgreenbay.org/nwgbevent/nwgbs-community-housewarming/
CATEGORIES:Special Events
ORGANIZER;CN="NeighborWorks Green Bay":MAILTO:info@nwgreenbay.org
END:VEVENT
BEGIN:VEVENT
DTSTART;TZID=America/Chicago:20221026T160000
DTEND;TZID=America/Chicago:20221026T210000
DTSTAMP:20260422T065347
CREATED:20220907T153229Z
LAST-MODIFIED:20251110T202234Z
UID:10000044-1666800000-1666818000@nwgreenbay.org
SUMMARY:40 Beers for 40 Years!
DESCRIPTION:NeighborWorks Green Bay is celebrating 40 years of solving housing challenges and building stronger communities. Please join us for “40 Beers for 40 Years!” on Wednesday October 26th from 4pm to 9 pm. The event will be held at Zambaldi Beer\, 1649 S Webster Avenue Green Bay\, WI 54301. \nHelp us reach our goal of 40 beers purchased to commemorate each year NeighborWorks Green Bay has made an impact on our community. Through their Pints for a Purpose Program\, Zambaldi Beer will donate $1 to NeighborWorks Green Bay for every pint\, flight\, or to go beer purchased that evening. \nPlease bring your friends and family to help us celebrate 40 years. We look forward to seeing you for 40 Beers for 40 Years!
URL:https://nwgreenbay.org/nwgbevent/40-beers-for-40-years/
CATEGORIES:Special Events
END:VEVENT
BEGIN:VEVENT
DTSTART;TZID=America/Chicago:20221013T170000
DTEND;TZID=America/Chicago:20221013T200000
DTSTAMP:20260422T065347
CREATED:20220414T164618Z
LAST-MODIFIED:20251110T202244Z
UID:10000062-1665680400-1665691200@nwgreenbay.org
SUMMARY:NeighborWorks Green Bay's Annual Celebration Sponsored by American Foods Group
DESCRIPTION:NeighborWorks Green Bay’s 40th Annual Celebration Sponsored by American Foods Group will bring together partners\, donors\, supporters\, and the community to celebrate our accomplishments from this past year. \nJoin us for networking\, food\, drinks\, and basket and 50/50 raffles. We’ll share highlights of the work we’ve accomplished\, together with our community partners\, and envision the future ahead. All are welcome to attend the event. \nRegister for the event on Eventbrite: https://www.eventbrite.com/e/neighborworks-green-bays-40th-annual-celebration-registration-399037169917 \nThe celebration will be held on Thursday October 13th at the Riverside Ballroom\, 1560 Main Street Green Bay\, from 5-8pm. The After Party will begin at 8pm at Drink\, 708 Bodart Street in Green Bay. Registration for the event is FREE! Food will be provided at no cost. Drinks will be offered at a cash bar – bring cash or an ATM is available on site. \nPlease consider making a $40 donation for our 40th year solving housing challenges and building stronger communities. Donations can be made via our Website\, mail\, or at the event. Thank you for supporting NeighborWorks Green Bay! \nThank you to our Title Sponsor:
URL:https://nwgreenbay.org/nwgbevent/neighborworks-green-bays-annual-celebration/
LOCATION:Riverside Ballroom\, 1560 Main St\, Green Bay\, WI\, 54302\, United States
CATEGORIES:Special Events
ORGANIZER;CN="NeighborWorks Green Bay":MAILTO:info@nwgreenbay.org
END:VEVENT
BEGIN:VEVENT
DTSTART;TZID=America/Chicago:20220223T120000
DTEND;TZID=America/Chicago:20220224T120000
DTSTAMP:20260422T065347
CREATED:20220208T165427Z
LAST-MODIFIED:20251110T202414Z
UID:10000053-1645617600-1645704000@nwgreenbay.org
SUMMARY:Give Big Green Bay
DESCRIPTION:NeighborWorks Green Bay is participating in Give Big Green Bay! \nGive Big Green Bay is a 24-hour online giving event celebrating the impact local nonprofits are making in our community.  On February 23rd – 24th from noon to noon\, visit www.givebiggreenbay.org to participate in the event.
URL:https://nwgreenbay.org/nwgbevent/give-big-green-bay/
CATEGORIES:Special Events
END:VEVENT
END:VCALENDAR