BEGIN:VCALENDAR
VERSION:2.0
PRODID:-//NeighborWorks Green Bay - ECPv6.15.20//NONSGML v1.0//EN
CALSCALE:GREGORIAN
METHOD:PUBLISH
X-WR-CALNAME:NeighborWorks Green Bay
X-ORIGINAL-URL:https://nwgreenbay.org
X-WR-CALDESC:Events for NeighborWorks Green Bay
REFRESH-INTERVAL;VALUE=DURATION:PT1H
X-Robots-Tag:noindex
X-PUBLISHED-TTL:PT1H
BEGIN:VTIMEZONE
TZID:America/Chicago
BEGIN:DAYLIGHT
TZOFFSETFROM:-0600
TZOFFSETTO:-0500
TZNAME:CDT
DTSTART:20210314T080000
END:DAYLIGHT
BEGIN:STANDARD
TZOFFSETFROM:-0500
TZOFFSETTO:-0600
TZNAME:CST
DTSTART:20211107T070000
END:STANDARD
BEGIN:DAYLIGHT
TZOFFSETFROM:-0600
TZOFFSETTO:-0500
TZNAME:CDT
DTSTART:20220313T080000
END:DAYLIGHT
BEGIN:STANDARD
TZOFFSETFROM:-0500
TZOFFSETTO:-0600
TZNAME:CST
DTSTART:20221106T070000
END:STANDARD
BEGIN:DAYLIGHT
TZOFFSETFROM:-0600
TZOFFSETTO:-0500
TZNAME:CDT
DTSTART:20230312T080000
END:DAYLIGHT
BEGIN:STANDARD
TZOFFSETFROM:-0500
TZOFFSETTO:-0600
TZNAME:CST
DTSTART:20231105T070000
END:STANDARD
BEGIN:DAYLIGHT
TZOFFSETFROM:-0600
TZOFFSETTO:-0500
TZNAME:CDT
DTSTART:20240310T080000
END:DAYLIGHT
BEGIN:STANDARD
TZOFFSETFROM:-0500
TZOFFSETTO:-0600
TZNAME:CST
DTSTART:20241103T070000
END:STANDARD
BEGIN:DAYLIGHT
TZOFFSETFROM:-0600
TZOFFSETTO:-0500
TZNAME:CDT
DTSTART:20250309T080000
END:DAYLIGHT
BEGIN:STANDARD
TZOFFSETFROM:-0500
TZOFFSETTO:-0600
TZNAME:CST
DTSTART:20251102T070000
END:STANDARD
END:VTIMEZONE
BEGIN:VEVENT
DTSTART;TZID=America/Chicago:20240922T080000
DTEND;TZID=America/Chicago:20240928T170000
DTSTAMP:20260422T100953
CREATED:20240503T153958Z
LAST-MODIFIED:20251110T201734Z
UID:10000130-1726992000-1727542800@nwgreenbay.org
SUMMARY:Good Neighbor Week
DESCRIPTION:Join us for Good Neighbor Week! \nGood Neighbor Week 2024 will take place September 22nd through the 28th. NeighborWorks Green Bay\, Green Bay Neighborhoods\, the City of Green Bay\, as well as many community partners plan to take on several projects helping neighbors in need in our community with minor home repairs\, landscaping or yard maintenance.
URL:https://nwgreenbay.org/nwgbevent/good-neighbor-week-9/
LOCATION:WI
CATEGORIES:Good Neighbor Week
END:VEVENT
BEGIN:VEVENT
DTSTART;VALUE=DATE:20230924
DTEND;VALUE=DATE:20231001
DTSTAMP:20260422T100953
CREATED:20230830T204337Z
LAST-MODIFIED:20251110T202030Z
UID:10000093-1695513600-1696118399@nwgreenbay.org
SUMMARY:Good Neighbor Week
DESCRIPTION:We are excited to announce our 4th annual Good Neighbor Week will be September 24 – 30\, 2023.  With the assistance of our volunteers and sponsors\, NeighborWorks Green Bay\, Green Bay Neighborhoods\, and the City of Green Bay will be completing multiple projects throughout the community aimed at helping homeowners in need.  Some of our projects include landscaping\, exterior home and landscaping repairs\, and yard clean-up.  Both labor and materials are free to qualifying households! Interested in volunteering\, contact Vicki@nwgreenbay.org.  Financial gifts are greatly appreciated: Make a gift to Good Neighbor Week
URL:https://nwgreenbay.org/nwgbevent/good-neighbor-week-3/
LOCATION:WI
CATEGORIES:Good Neighbor Week
END:VEVENT
BEGIN:VEVENT
DTSTART;TZID=America/Chicago:20221001T080000
DTEND;TZID=America/Chicago:20221001T170000
DTSTAMP:20260422T100953
CREATED:20220415T172453Z
LAST-MODIFIED:20220415T172453Z
UID:10000069-1664611200-1664643600@nwgreenbay.org
SUMMARY:Good Neighbor Week
DESCRIPTION:Good Neighbor Week is a week of clean-up and home repair for community members provided free of charge\, in partnership with Green Bay Neighborhoods\, the City of Green Bay\, and sponsored by local supporters.  This event encourages people to volunteer and be a good neighbor.  It also encourages neighborhood associations and other groups in the community to host their own events promoting neighborhood engagement.  If you’d like to nominate yourself or a neighbor\, please complete an application and return by June 1\, 2022. The application can be found here: https://nwgreenbay.org/good-neighbor-week/ \nFollow NeighborWorks Week events on our social media https://www.facebook.com/NeighborWorks.Green.Bay 
URL:https://nwgreenbay.org/nwgbevent/good-neighbor-week-8/
LOCATION:WI
CATEGORIES:Good Neighbor Week
END:VEVENT
BEGIN:VEVENT
DTSTART;TZID=America/Chicago:20220930T080000
DTEND;TZID=America/Chicago:20220930T170000
DTSTAMP:20260422T100953
CREATED:20220415T172222Z
LAST-MODIFIED:20220415T172222Z
UID:10000068-1664524800-1664557200@nwgreenbay.org
SUMMARY:Good Neighbor Week
DESCRIPTION:Good Neighbor Week is a week of clean-up and home repair for community members provided free of charge\, in partnership with Green Bay Neighborhoods\, the City of Green Bay\, and sponsored by local supporters.  This event encourages people to volunteer and be a good neighbor.  It also encourages neighborhood associations and other groups in the community to host their own events promoting neighborhood engagement.  If you’d like to nominate yourself or a neighbor\, please complete an application and return by June 1\, 2022. The application can be found here: https://nwgreenbay.org/good-neighbor-week/ \nFollow NeighborWorks Week events on our social media https://www.facebook.com/NeighborWorks.Green.Bay 
URL:https://nwgreenbay.org/nwgbevent/good-neighbor-week-7/
LOCATION:WI
CATEGORIES:Good Neighbor Week
END:VEVENT
BEGIN:VEVENT
DTSTART;TZID=America/Chicago:20220929T080000
DTEND;TZID=America/Chicago:20220929T170000
DTSTAMP:20260422T100953
CREATED:20220415T172142Z
LAST-MODIFIED:20220415T172142Z
UID:10000067-1664438400-1664470800@nwgreenbay.org
SUMMARY:Good Neighbor Week
DESCRIPTION:Good Neighbor Week is a week of clean-up and home repair for community members provided free of charge\, in partnership with Green Bay Neighborhoods\, the City of Green Bay\, and sponsored by local supporters.  This event encourages people to volunteer and be a good neighbor.  It also encourages neighborhood associations and other groups in the community to host their own events promoting neighborhood engagement.  If you’d like to nominate yourself or a neighbor\, please complete an application and return by June 1\, 2022. The application can be found here: https://nwgreenbay.org/good-neighbor-week/ \nFollow NeighborWorks Week events on our social media https://www.facebook.com/NeighborWorks.Green.Bay 
URL:https://nwgreenbay.org/nwgbevent/good-neighbor-week-6/
LOCATION:WI
CATEGORIES:Good Neighbor Week
END:VEVENT
BEGIN:VEVENT
DTSTART;TZID=America/Chicago:20220928T080000
DTEND;TZID=America/Chicago:20220928T170000
DTSTAMP:20260422T100953
CREATED:20220415T172059Z
LAST-MODIFIED:20220415T172059Z
UID:10000066-1664352000-1664384400@nwgreenbay.org
SUMMARY:Good Neighbor Week
DESCRIPTION:Good Neighbor Week is a week of clean-up and home repair for community members provided free of charge\, in partnership with Green Bay Neighborhoods\, the City of Green Bay\, and sponsored by local supporters.  This event encourages people to volunteer and be a good neighbor.  It also encourages neighborhood associations and other groups in the community to host their own events promoting neighborhood engagement.  If you’d like to nominate yourself or a neighbor\, please complete an application and return by June 1\, 2022. The application can be found here: https://nwgreenbay.org/good-neighbor-week/ \nFollow NeighborWorks Week events on our social media https://www.facebook.com/NeighborWorks.Green.Bay 
URL:https://nwgreenbay.org/nwgbevent/good-neighbor-week-5/
LOCATION:WI
CATEGORIES:Good Neighbor Week
END:VEVENT
BEGIN:VEVENT
DTSTART;TZID=America/Chicago:20220927T080000
DTEND;TZID=America/Chicago:20220927T170000
DTSTAMP:20260422T100953
CREATED:20220415T172018Z
LAST-MODIFIED:20220415T172018Z
UID:10000065-1664265600-1664298000@nwgreenbay.org
SUMMARY:Good Neighbor Week
DESCRIPTION:Good Neighbor Week is a week of clean-up and home repair for community members provided free of charge\, in partnership with Green Bay Neighborhoods\, the City of Green Bay\, and sponsored by local supporters.  This event encourages people to volunteer and be a good neighbor.  It also encourages neighborhood associations and other groups in the community to host their own events promoting neighborhood engagement.  If you’d like to nominate yourself or a neighbor\, please complete an application and return by June 1\, 2022. The application can be found here: https://nwgreenbay.org/good-neighbor-week/ \nFollow NeighborWorks Week events on our social media https://www.facebook.com/NeighborWorks.Green.Bay 
URL:https://nwgreenbay.org/nwgbevent/good-neighbor-week-4/
LOCATION:WI
CATEGORIES:Good Neighbor Week
END:VEVENT
BEGIN:VEVENT
DTSTART;TZID=America/Chicago:20220926T080000
DTEND;TZID=America/Chicago:20220926T170000
DTSTAMP:20260422T100953
CREATED:20220415T171848Z
LAST-MODIFIED:20220415T171848Z
UID:10000064-1664179200-1664211600@nwgreenbay.org
SUMMARY:Good Neighbor Week
DESCRIPTION:Good Neighbor Week is a week of clean-up and home repair for community members provided free of charge\, in partnership with Green Bay Neighborhoods\, the City of Green Bay\, and sponsored by local supporters.  This event encourages people to volunteer and be a good neighbor.  It also encourages neighborhood associations and other groups in the community to host their own events promoting neighborhood engagement.  If you’d like to nominate yourself or a neighbor\, please complete an application and return by June 1\, 2022. The application can be found here: https://nwgreenbay.org/good-neighbor-week/ \nFollow NeighborWorks Week events on our social media https://www.facebook.com/NeighborWorks.Green.Bay 
URL:https://nwgreenbay.org/nwgbevent/good-neighbor-week-2/
LOCATION:WI
CATEGORIES:Good Neighbor Week
END:VEVENT
BEGIN:VEVENT
DTSTART;TZID=America/Chicago:20220925T080000
DTEND;TZID=America/Chicago:20220925T170000
DTSTAMP:20260422T100953
CREATED:20220415T171445Z
LAST-MODIFIED:20220415T171445Z
UID:10000063-1664092800-1664125200@nwgreenbay.org
SUMMARY:Good Neighbor Week
DESCRIPTION:Good Neighbor Week is a week of clean-up and home repair for community members provided free of charge\, in partnership with Green Bay Neighborhoods\, the City of Green Bay\, and sponsored by local supporters.  This event encourages people to volunteer and be a good neighbor.  It also encourages neighborhood associations and other groups in the community to host their own events promoting neighborhood engagement.  If you’d like to nominate yourself or a neighbor\, please complete an application and return by June 1\, 2022. The application can be found here: https://nwgreenbay.org/good-neighbor-week/ \n\nFollow NeighborWorks Week events on our social media https://www.facebook.com/NeighborWorks.Green.Bay
URL:https://nwgreenbay.org/nwgbevent/good-neighbor-week/
LOCATION:WI
CATEGORIES:Good Neighbor Week
END:VEVENT
END:VCALENDAR