BEGIN:VCALENDAR
VERSION:2.0
PRODID:-//NeighborWorks Green Bay - ECPv6.15.20//NONSGML v1.0//EN
CALSCALE:GREGORIAN
METHOD:PUBLISH
X-WR-CALNAME:NeighborWorks Green Bay
X-ORIGINAL-URL:https://nwgreenbay.org
X-WR-CALDESC:Events for NeighborWorks Green Bay
REFRESH-INTERVAL;VALUE=DURATION:PT1H
X-Robots-Tag:noindex
X-PUBLISHED-TTL:PT1H
BEGIN:VTIMEZONE
TZID:America/Chicago
BEGIN:DAYLIGHT
TZOFFSETFROM:-0600
TZOFFSETTO:-0500
TZNAME:CDT
DTSTART:20250309T080000
END:DAYLIGHT
BEGIN:STANDARD
TZOFFSETFROM:-0500
TZOFFSETTO:-0600
TZNAME:CST
DTSTART:20251102T070000
END:STANDARD
BEGIN:DAYLIGHT
TZOFFSETFROM:-0600
TZOFFSETTO:-0500
TZNAME:CDT
DTSTART:20260308T080000
END:DAYLIGHT
BEGIN:STANDARD
TZOFFSETFROM:-0500
TZOFFSETTO:-0600
TZNAME:CST
DTSTART:20261101T070000
END:STANDARD
BEGIN:DAYLIGHT
TZOFFSETFROM:-0600
TZOFFSETTO:-0500
TZNAME:CDT
DTSTART:20270314T080000
END:DAYLIGHT
BEGIN:STANDARD
TZOFFSETFROM:-0500
TZOFFSETTO:-0600
TZNAME:CST
DTSTART:20271107T070000
END:STANDARD
END:VTIMEZONE
BEGIN:VEVENT
DTSTART;TZID=America/Chicago:20260423T073000
DTEND;TZID=America/Chicago:20260423T093000
DTSTAMP:20260422T035309
CREATED:20260202T190355Z
LAST-MODIFIED:20260202T190355Z
UID:10000216-1776929400-1776936600@nwgreenbay.org
SUMMARY:Cheers to Volunteers!
DESCRIPTION:Cheers to Volunteers! at NeighborWorks Green Bay \n\nYou’re invited to Cheers to Volunteers! NeighborWorks Green Bay is celebrating our volunteers for all the hard work and dedication they bring to our mission. We hope you’ll join us in the Community Room for refreshments and treats\, opportunities to network with other volunteers and staff\, and of course\, plenty of time to celebrate together the positive work our volunteers are all making toward housing in our community! \nNO RSVP necessary\, just plan to stop in before you start your day….and bring a friend. Questions? Please reach out to Vicki Bokelman at vicki@nwgreenbay.org or 920.593.3716.
URL:https://nwgreenbay.org/nwgbevent/cheers-to-volunteers-2026/
LOCATION:NeighborWorks Green Bay
CATEGORIES:Special Events
ORGANIZER;CN="NeighborWorks Green Bay":MAILTO:info@nwgreenbay.org
END:VEVENT
BEGIN:VEVENT
DTSTART;TZID=America/Chicago:20260428T173000
DTEND;TZID=America/Chicago:20260428T183000
DTSTAMP:20260422T035309
CREATED:20260403T175229Z
LAST-MODIFIED:20260406T213807Z
UID:10000265-1777397400-1777401000@nwgreenbay.org
SUMMARY:Home & Beyond Series | Learn to Grow a Veggie Garden
DESCRIPTION:Join NeighborWorks Green Bay and Green Bay Habitat for Humanity for a Home & Beyond Series workshop focused on Food & Nutrition. In this session\, local experts Beth and Dave Woods will share tips and resources to help you start and sustain a vegetable garden. Participants will learn how to grow their own food affordably\, maintain a healthy garden throughout the season\, and make the most of available space. \nWhether you are new to gardening or looking to improve your skills\, this workshop will provide practical\, easy-to-follow guidance. \nSpace is limited and registration is required.\nRegister for Free
URL:https://nwgreenbay.org/nwgbevent/learn-to-grow-veggie-garden/
LOCATION:NeighborWorks Green Bay
CATEGORIES:Home & Beyond Series
ORGANIZER;CN="NeighborWorks Green Bay":MAILTO:info@nwgreenbay.org
END:VEVENT
BEGIN:VEVENT
DTSTART;TZID=America/Chicago:20260504T170000
DTEND;TZID=America/Chicago:20260504T200000
DTSTAMP:20260422T035309
CREATED:20260224T000337Z
LAST-MODIFIED:20260304T214613Z
UID:10000222-1777914000-1777924800@nwgreenbay.org
SUMMARY:HOMEBUYER EDUCATION CLASS Part 1
DESCRIPTION:Homebuyer Education class is held in-person over two evenings on Monday and Tuesday in the NeighborWorks Green Bay Community Room. This two-day class will require students to attend both sessions from 5:00 PM to 8:00 PM. There is a non-refundable $50 fee for this class. \nRegistration will close 24 hours before the first class date. \n**You must complete both evenings to complete the class** \n  \nRegister for Class
URL:https://nwgreenbay.org/nwgbevent/homebuyer-education-class-part-1/2026-05-04/
LOCATION:NeighborWorks Green Bay
CATEGORIES:Homebuyer Education Class
ORGANIZER;CN="NeighborWorks Green Bay":MAILTO:info@nwgreenbay.org
END:VEVENT
BEGIN:VEVENT
DTSTART;TZID=America/Chicago:20260505T170000
DTEND;TZID=America/Chicago:20260505T200000
DTSTAMP:20260422T035309
CREATED:20260224T002738Z
LAST-MODIFIED:20260304T213713Z
UID:10000242-1778000400-1778011200@nwgreenbay.org
SUMMARY:HOMEBUYER EDUCATION CLASS Part 2
DESCRIPTION:Homebuyer Education class is held in-person over two evenings on Monday and Tuesday in the NeighborWorks Green Bay Community Room. This two-day class will require students to attend both sessions from 5:00 PM to 8:00 PM. There is a non-refundable $50 fee for this class. \nRegistration will close 24 hours before the first class date. \n**You must complete both evenings to complete the class** \nRegister for Class
URL:https://nwgreenbay.org/nwgbevent/homebuyer-education-class-part-2/2026-05-05/
LOCATION:NeighborWorks Green Bay
CATEGORIES:Homebuyer Education Class
ORGANIZER;CN="NeighborWorks Green Bay":MAILTO:info@nwgreenbay.org
END:VEVENT
BEGIN:VEVENT
DTSTART;TZID=America/Chicago:20260516T090000
DTEND;TZID=America/Chicago:20260516T150000
DTSTAMP:20260422T035309
CREATED:20260224T004059Z
LAST-MODIFIED:20260304T215125Z
UID:10000253-1778922000-1778943600@nwgreenbay.org
SUMMARY:Clase de educación para compradores de vivienda
DESCRIPTION:La clase de educación para compradores de vivienda en español está en el salón de NeighborWorks Green Bay. El costo de esta clase es de $50\, no reembolsable. \nLa inscripción cerrará 24 horas antes de la fecha de la clase. \nRegístrate para la clase
URL:https://nwgreenbay.org/nwgbevent/clase-de-educacion-para-compradores-de-vivienda-2/2026-05-16/
LOCATION:NeighborWorks Green Bay
CATEGORIES:Homebuyer Education Class
ORGANIZER;CN="NeighborWorks Green Bay":MAILTO:info@nwgreenbay.org
END:VEVENT
BEGIN:VEVENT
DTSTART;VALUE=DATE:20260525
DTEND;VALUE=DATE:20260526
DTSTAMP:20260422T035309
CREATED:20251120T213508Z
LAST-MODIFIED:20251120T213508Z
UID:10000211-1779667200-1779753599@nwgreenbay.org
SUMMARY:Closed for Memorial Day
DESCRIPTION:
URL:https://nwgreenbay.org/nwgbevent/closed-for-memorial-day-2/
CATEGORIES:Office Closure
END:VEVENT
BEGIN:VEVENT
DTSTART;TZID=America/Chicago:20260527T150000
DTEND;TZID=America/Chicago:20260527T210000
DTSTAMP:20260422T035309
CREATED:20251215T190736Z
LAST-MODIFIED:20251215T190736Z
UID:10000215-1779894000-1779915600@nwgreenbay.org
SUMMARY:Pints with a Purpose: NeighborWorks Green Bay
DESCRIPTION:Pints with a Purpose at Zambaldi Beer \nPints with a Purpose is Zambaldi Beer’s program to give back to our community. $1 from every pint\, flight\, to-go growler or to-go 6 pack sold will be donated to NeighborWorks Green Bay. Join us for a drink to support a good cause!
URL:https://nwgreenbay.org/nwgbevent/pints-with-a-purpose-neighborworks-green-bay-2026/
LOCATION:Zambaldi Beer -1649 S Webster Ave. Green Bay\, WI\, 1649 S Webster Avenue\, Green Bay\, WI\, United States
CATEGORIES:Community Building
ORGANIZER;CN="NeighborWorks Green Bay":MAILTO:info@nwgreenbay.org
END:VEVENT
BEGIN:VEVENT
DTSTART;TZID=America/Chicago:20260601T170000
DTEND;TZID=America/Chicago:20260601T200000
DTSTAMP:20260422T035309
CREATED:20260224T000337Z
LAST-MODIFIED:20260304T214613Z
UID:10000223-1780333200-1780344000@nwgreenbay.org
SUMMARY:HOMEBUYER EDUCATION CLASS Part 1
DESCRIPTION:Homebuyer Education class is held in-person over two evenings on Monday and Tuesday in the NeighborWorks Green Bay Community Room. This two-day class will require students to attend both sessions from 5:00 PM to 8:00 PM. There is a non-refundable $50 fee for this class. \nRegistration will close 24 hours before the first class date. \n**You must complete both evenings to complete the class** \n  \nRegister for Class
URL:https://nwgreenbay.org/nwgbevent/homebuyer-education-class-part-1/2026-06-01/
LOCATION:NeighborWorks Green Bay
CATEGORIES:Homebuyer Education Class
ORGANIZER;CN="NeighborWorks Green Bay":MAILTO:info@nwgreenbay.org
END:VEVENT
BEGIN:VEVENT
DTSTART;TZID=America/Chicago:20260602T170000
DTEND;TZID=America/Chicago:20260602T200000
DTSTAMP:20260422T035309
CREATED:20260224T002738Z
LAST-MODIFIED:20260304T213713Z
UID:10000243-1780419600-1780430400@nwgreenbay.org
SUMMARY:HOMEBUYER EDUCATION CLASS Part 2
DESCRIPTION:Homebuyer Education class is held in-person over two evenings on Monday and Tuesday in the NeighborWorks Green Bay Community Room. This two-day class will require students to attend both sessions from 5:00 PM to 8:00 PM. There is a non-refundable $50 fee for this class. \nRegistration will close 24 hours before the first class date. \n**You must complete both evenings to complete the class** \nRegister for Class
URL:https://nwgreenbay.org/nwgbevent/homebuyer-education-class-part-2/2026-06-02/
LOCATION:NeighborWorks Green Bay
CATEGORIES:Homebuyer Education Class
ORGANIZER;CN="NeighborWorks Green Bay":MAILTO:info@nwgreenbay.org
END:VEVENT
BEGIN:VEVENT
DTSTART;TZID=America/Chicago:20260611T163000
DTEND;TZID=America/Chicago:20260611T193000
DTSTAMP:20260422T035309
CREATED:20260305T233107Z
LAST-MODIFIED:20260421T164139Z
UID:10000261-1781195400-1781206200@nwgreenbay.org
SUMMARY:NeighborWorks Green Bay Annual Celebration 2026 | Stadium View
DESCRIPTION:Join NeighborWorks Green Bay on June 11\, 2026 at Stadium View Bar for our 44th Annual Celebration. \nNew this year\, the Annual Celebration moves to June\, bringing together neighbors\, volunteers\, community partners\, and supporters to celebrate the impact of safe\, stable housing in Greater Green Bay. \nDuring the event\, guests will: \n• Experience the Good Neighbor Tour\, showcasing programs that support homeownership and neighborhood stability• View and bid on artwork in the Birdhouse Auction\, where local artists transform handcrafted birdhouses into unique pieces that support housing initiatives• Hear from community ambassadors who share how access to stable housing has strengthened their families and neighborhoods \nThe Annual Celebration highlights the power of neighbors working together to solve housing challenges and build stronger communities. \nRegistration closes May 22…get your tickets today! \nRegister Today
URL:https://nwgreenbay.org/nwgbevent/annual-celebration-2026/
LOCATION:Stadium View\, 1963 Holmgren Way\, Green Bay\, WI\, 54304\, United States
ORGANIZER;CN="NeighborWorks Green Bay":MAILTO:info@nwgreenbay.org
END:VEVENT
BEGIN:VEVENT
DTSTART;VALUE=DATE:20260619
DTEND;VALUE=DATE:20260620
DTSTAMP:20260422T035309
CREATED:20251120T213328Z
LAST-MODIFIED:20251120T213328Z
UID:10000210-1781827200-1781913599@nwgreenbay.org
SUMMARY:Closed for Juneteenth National Independence Day
DESCRIPTION:
URL:https://nwgreenbay.org/nwgbevent/closed-for-juneteenth-national-independence-day-2/
CATEGORIES:Office Closure
END:VEVENT
BEGIN:VEVENT
DTSTART;TZID=America/Chicago:20260620T090000
DTEND;TZID=America/Chicago:20260620T150000
DTSTAMP:20260422T035309
CREATED:20260224T004059Z
LAST-MODIFIED:20260304T215125Z
UID:10000254-1781946000-1781967600@nwgreenbay.org
SUMMARY:Clase de educación para compradores de vivienda
DESCRIPTION:La clase de educación para compradores de vivienda en español está en el salón de NeighborWorks Green Bay. El costo de esta clase es de $50\, no reembolsable. \nLa inscripción cerrará 24 horas antes de la fecha de la clase. \nRegístrate para la clase
URL:https://nwgreenbay.org/nwgbevent/clase-de-educacion-para-compradores-de-vivienda-2/2026-06-20/
LOCATION:NeighborWorks Green Bay
CATEGORIES:Homebuyer Education Class
ORGANIZER;CN="NeighborWorks Green Bay":MAILTO:info@nwgreenbay.org
END:VEVENT
BEGIN:VEVENT
DTSTART;VALUE=DATE:20260704
DTEND;VALUE=DATE:20260705
DTSTAMP:20260422T035309
CREATED:20251120T213016Z
LAST-MODIFIED:20251120T213016Z
UID:10000209-1783123200-1783209599@nwgreenbay.org
SUMMARY:Closed for Independence Day
DESCRIPTION:
URL:https://nwgreenbay.org/nwgbevent/closed-for-independence-day-2/
CATEGORIES:Office Closure
END:VEVENT
BEGIN:VEVENT
DTSTART;TZID=America/Chicago:20260706T170000
DTEND;TZID=America/Chicago:20260706T200000
DTSTAMP:20260422T035309
CREATED:20260224T000337Z
LAST-MODIFIED:20260304T214613Z
UID:10000224-1783357200-1783368000@nwgreenbay.org
SUMMARY:HOMEBUYER EDUCATION CLASS Part 1
DESCRIPTION:Homebuyer Education class is held in-person over two evenings on Monday and Tuesday in the NeighborWorks Green Bay Community Room. This two-day class will require students to attend both sessions from 5:00 PM to 8:00 PM. There is a non-refundable $50 fee for this class. \nRegistration will close 24 hours before the first class date. \n**You must complete both evenings to complete the class** \n  \nRegister for Class
URL:https://nwgreenbay.org/nwgbevent/homebuyer-education-class-part-1/2026-07-06/
LOCATION:NeighborWorks Green Bay
CATEGORIES:Homebuyer Education Class
ORGANIZER;CN="NeighborWorks Green Bay":MAILTO:info@nwgreenbay.org
END:VEVENT
BEGIN:VEVENT
DTSTART;TZID=America/Chicago:20260707T170000
DTEND;TZID=America/Chicago:20260707T200000
DTSTAMP:20260422T035309
CREATED:20260224T002738Z
LAST-MODIFIED:20260304T213713Z
UID:10000244-1783443600-1783454400@nwgreenbay.org
SUMMARY:HOMEBUYER EDUCATION CLASS Part 2
DESCRIPTION:Homebuyer Education class is held in-person over two evenings on Monday and Tuesday in the NeighborWorks Green Bay Community Room. This two-day class will require students to attend both sessions from 5:00 PM to 8:00 PM. There is a non-refundable $50 fee for this class. \nRegistration will close 24 hours before the first class date. \n**You must complete both evenings to complete the class** \nRegister for Class
URL:https://nwgreenbay.org/nwgbevent/homebuyer-education-class-part-2/2026-07-07/
LOCATION:NeighborWorks Green Bay
CATEGORIES:Homebuyer Education Class
ORGANIZER;CN="NeighborWorks Green Bay":MAILTO:info@nwgreenbay.org
END:VEVENT
BEGIN:VEVENT
DTSTART;TZID=America/Chicago:20260718T090000
DTEND;TZID=America/Chicago:20260718T150000
DTSTAMP:20260422T035309
CREATED:20260224T004059Z
LAST-MODIFIED:20260304T215125Z
UID:10000255-1784365200-1784386800@nwgreenbay.org
SUMMARY:Clase de educación para compradores de vivienda
DESCRIPTION:La clase de educación para compradores de vivienda en español está en el salón de NeighborWorks Green Bay. El costo de esta clase es de $50\, no reembolsable. \nLa inscripción cerrará 24 horas antes de la fecha de la clase. \nRegístrate para la clase
URL:https://nwgreenbay.org/nwgbevent/clase-de-educacion-para-compradores-de-vivienda-2/2026-07-18/
LOCATION:NeighborWorks Green Bay
CATEGORIES:Homebuyer Education Class
ORGANIZER;CN="NeighborWorks Green Bay":MAILTO:info@nwgreenbay.org
END:VEVENT
BEGIN:VEVENT
DTSTART;TZID=America/Chicago:20260803T170000
DTEND;TZID=America/Chicago:20260803T200000
DTSTAMP:20260422T035309
CREATED:20260224T000337Z
LAST-MODIFIED:20260304T214613Z
UID:10000225-1785776400-1785787200@nwgreenbay.org
SUMMARY:HOMEBUYER EDUCATION CLASS Part 1
DESCRIPTION:Homebuyer Education class is held in-person over two evenings on Monday and Tuesday in the NeighborWorks Green Bay Community Room. This two-day class will require students to attend both sessions from 5:00 PM to 8:00 PM. There is a non-refundable $50 fee for this class. \nRegistration will close 24 hours before the first class date. \n**You must complete both evenings to complete the class** \n  \nRegister for Class
URL:https://nwgreenbay.org/nwgbevent/homebuyer-education-class-part-1/2026-08-03/
LOCATION:NeighborWorks Green Bay
CATEGORIES:Homebuyer Education Class
ORGANIZER;CN="NeighborWorks Green Bay":MAILTO:info@nwgreenbay.org
END:VEVENT
BEGIN:VEVENT
DTSTART;TZID=America/Chicago:20260804T170000
DTEND;TZID=America/Chicago:20260804T200000
DTSTAMP:20260422T035309
CREATED:20260224T002738Z
LAST-MODIFIED:20260304T213713Z
UID:10000245-1785862800-1785873600@nwgreenbay.org
SUMMARY:HOMEBUYER EDUCATION CLASS Part 2
DESCRIPTION:Homebuyer Education class is held in-person over two evenings on Monday and Tuesday in the NeighborWorks Green Bay Community Room. This two-day class will require students to attend both sessions from 5:00 PM to 8:00 PM. There is a non-refundable $50 fee for this class. \nRegistration will close 24 hours before the first class date. \n**You must complete both evenings to complete the class** \nRegister for Class
URL:https://nwgreenbay.org/nwgbevent/homebuyer-education-class-part-2/2026-08-04/
LOCATION:NeighborWorks Green Bay
CATEGORIES:Homebuyer Education Class
ORGANIZER;CN="NeighborWorks Green Bay":MAILTO:info@nwgreenbay.org
END:VEVENT
BEGIN:VEVENT
DTSTART;TZID=America/Chicago:20260815T090000
DTEND;TZID=America/Chicago:20260815T150000
DTSTAMP:20260422T035309
CREATED:20260224T004059Z
LAST-MODIFIED:20260304T215125Z
UID:10000256-1786784400-1786806000@nwgreenbay.org
SUMMARY:Clase de educación para compradores de vivienda
DESCRIPTION:La clase de educación para compradores de vivienda en español está en el salón de NeighborWorks Green Bay. El costo de esta clase es de $50\, no reembolsable. \nLa inscripción cerrará 24 horas antes de la fecha de la clase. \nRegístrate para la clase
URL:https://nwgreenbay.org/nwgbevent/clase-de-educacion-para-compradores-de-vivienda-2/2026-08-15/
LOCATION:NeighborWorks Green Bay
CATEGORIES:Homebuyer Education Class
ORGANIZER;CN="NeighborWorks Green Bay":MAILTO:info@nwgreenbay.org
END:VEVENT
BEGIN:VEVENT
DTSTART;VALUE=DATE:20260816
DTEND;VALUE=DATE:20260823
DTSTAMP:20260422T035309
CREATED:20260313T165008Z
LAST-MODIFIED:20260313T165108Z
UID:10000263-1786838400-1787443199@nwgreenbay.org
SUMMARY:Good Neighbor Week: Allouez
DESCRIPTION:Good Neighbor Week Allouez takes place each year. NeighborWorks Green Bay and the Village of Allouez\, as well as many community partners\, plan several projects helping neighbors in need with minor home repairs\, landscaping or yard maintenance. \nLEARN MORE
URL:https://nwgreenbay.org/nwgbevent/good-neighbor-week-allouez-2026/
LOCATION:Village of Allouez\, Allouez\, 54301\, United States
CATEGORIES:Good Neighbor Week
ORGANIZER;CN="NeighborWorks Green Bay":MAILTO:info@nwgreenbay.org
END:VEVENT
BEGIN:VEVENT
DTSTART;TZID=America/Chicago:20260901T170000
DTEND;TZID=America/Chicago:20260901T200000
DTSTAMP:20260422T035309
CREATED:20260224T002738Z
LAST-MODIFIED:20260304T213713Z
UID:10000246-1788282000-1788292800@nwgreenbay.org
SUMMARY:HOMEBUYER EDUCATION CLASS Part 2
DESCRIPTION:Homebuyer Education class is held in-person over two evenings on Monday and Tuesday in the NeighborWorks Green Bay Community Room. This two-day class will require students to attend both sessions from 5:00 PM to 8:00 PM. There is a non-refundable $50 fee for this class. \nRegistration will close 24 hours before the first class date. \n**You must complete both evenings to complete the class** \nRegister for Class
URL:https://nwgreenbay.org/nwgbevent/homebuyer-education-class-part-2/2026-09-01/
LOCATION:NeighborWorks Green Bay
CATEGORIES:Homebuyer Education Class
ORGANIZER;CN="NeighborWorks Green Bay":MAILTO:info@nwgreenbay.org
END:VEVENT
BEGIN:VEVENT
DTSTART;VALUE=DATE:20260907
DTEND;VALUE=DATE:20260908
DTSTAMP:20260422T035309
CREATED:20251120T212901Z
LAST-MODIFIED:20251120T212901Z
UID:10000208-1788739200-1788825599@nwgreenbay.org
SUMMARY:Closed for Labor Day
DESCRIPTION:
URL:https://nwgreenbay.org/nwgbevent/closed-for-labor-day-3/
CATEGORIES:Office Closure
END:VEVENT
BEGIN:VEVENT
DTSTART;TZID=America/Chicago:20260907T170000
DTEND;TZID=America/Chicago:20260907T200000
DTSTAMP:20260422T035309
CREATED:20260224T000337Z
LAST-MODIFIED:20260304T214613Z
UID:10000226-1788800400-1788811200@nwgreenbay.org
SUMMARY:HOMEBUYER EDUCATION CLASS Part 1
DESCRIPTION:Homebuyer Education class is held in-person over two evenings on Monday and Tuesday in the NeighborWorks Green Bay Community Room. This two-day class will require students to attend both sessions from 5:00 PM to 8:00 PM. There is a non-refundable $50 fee for this class. \nRegistration will close 24 hours before the first class date. \n**You must complete both evenings to complete the class** \n  \nRegister for Class
URL:https://nwgreenbay.org/nwgbevent/homebuyer-education-class-part-1/2026-09-07/
LOCATION:NeighborWorks Green Bay
CATEGORIES:Homebuyer Education Class
ORGANIZER;CN="NeighborWorks Green Bay":MAILTO:info@nwgreenbay.org
END:VEVENT
BEGIN:VEVENT
DTSTART;TZID=America/Chicago:20260919T090000
DTEND;TZID=America/Chicago:20260919T150000
DTSTAMP:20260422T035309
CREATED:20260224T004059Z
LAST-MODIFIED:20260304T215125Z
UID:10000257-1789808400-1789830000@nwgreenbay.org
SUMMARY:Clase de educación para compradores de vivienda
DESCRIPTION:La clase de educación para compradores de vivienda en español está en el salón de NeighborWorks Green Bay. El costo de esta clase es de $50\, no reembolsable. \nLa inscripción cerrará 24 horas antes de la fecha de la clase. \nRegístrate para la clase
URL:https://nwgreenbay.org/nwgbevent/clase-de-educacion-para-compradores-de-vivienda-2/2026-09-19/
LOCATION:NeighborWorks Green Bay
CATEGORIES:Homebuyer Education Class
ORGANIZER;CN="NeighborWorks Green Bay":MAILTO:info@nwgreenbay.org
END:VEVENT
BEGIN:VEVENT
DTSTART;VALUE=DATE:20260920
DTEND;VALUE=DATE:20260927
DTSTAMP:20260422T035309
CREATED:20260313T163845Z
LAST-MODIFIED:20260313T164244Z
UID:10000262-1789862400-1790467199@nwgreenbay.org
SUMMARY:Good Neighbor Week: Green Bay
DESCRIPTION:Good Neighbor Week Green Bay takes place each September. NeighborWorks Green Bay\, Green Bay Neighborhoods\, and the City of Green Bay\, as well as many community partners\, plan several projects helping neighbors in need with minor home repairs\, landscaping or yard maintenance. \nLEARN MORE
URL:https://nwgreenbay.org/nwgbevent/good-neighbor-week-gb-2026/
LOCATION:Green Bay\, WI\, Green Bay\, WI\, 54301\, United States
CATEGORIES:Good Neighbor Week
ORGANIZER;CN="NeighborWorks Green Bay":MAILTO:info@nwgreenbay.org
END:VEVENT
BEGIN:VEVENT
DTSTART;VALUE=DATE:20261004
DTEND;VALUE=DATE:20261011
DTSTAMP:20260422T035309
CREATED:20260313T165635Z
LAST-MODIFIED:20260318T191652Z
UID:10000264-1791072000-1791676799@nwgreenbay.org
SUMMARY:Good Neighbor Week: De Pere
DESCRIPTION:Good Neighbor Week De Pere takes place each year. NeighborWorks Green Bay\, the City of De Pere and the De Pere Area Chamber of Commerce\, as well as many community partners\, plan several projects helping neighbors in need with minor home repairs\, landscaping or yard maintenance. \nLEARN MORE
URL:https://nwgreenbay.org/nwgbevent/good-neighbor-week-de-pere-2026/
LOCATION:City of De Pere\, De Pere\, WI\, 54115\, United States
CATEGORIES:Good Neighbor Week
ORGANIZER;CN="NeighborWorks Green Bay":MAILTO:info@nwgreenbay.org
END:VEVENT
BEGIN:VEVENT
DTSTART;TZID=America/Chicago:20261005T170000
DTEND;TZID=America/Chicago:20261005T200000
DTSTAMP:20260422T035309
CREATED:20260224T000337Z
LAST-MODIFIED:20260304T214613Z
UID:10000227-1791219600-1791230400@nwgreenbay.org
SUMMARY:HOMEBUYER EDUCATION CLASS Part 1
DESCRIPTION:Homebuyer Education class is held in-person over two evenings on Monday and Tuesday in the NeighborWorks Green Bay Community Room. This two-day class will require students to attend both sessions from 5:00 PM to 8:00 PM. There is a non-refundable $50 fee for this class. \nRegistration will close 24 hours before the first class date. \n**You must complete both evenings to complete the class** \n  \nRegister for Class
URL:https://nwgreenbay.org/nwgbevent/homebuyer-education-class-part-1/2026-10-05/
LOCATION:NeighborWorks Green Bay
CATEGORIES:Homebuyer Education Class
ORGANIZER;CN="NeighborWorks Green Bay":MAILTO:info@nwgreenbay.org
END:VEVENT
BEGIN:VEVENT
DTSTART;TZID=America/Chicago:20261006T170000
DTEND;TZID=America/Chicago:20261006T200000
DTSTAMP:20260422T035309
CREATED:20260224T002738Z
LAST-MODIFIED:20260304T213713Z
UID:10000247-1791306000-1791316800@nwgreenbay.org
SUMMARY:HOMEBUYER EDUCATION CLASS Part 2
DESCRIPTION:Homebuyer Education class is held in-person over two evenings on Monday and Tuesday in the NeighborWorks Green Bay Community Room. This two-day class will require students to attend both sessions from 5:00 PM to 8:00 PM. There is a non-refundable $50 fee for this class. \nRegistration will close 24 hours before the first class date. \n**You must complete both evenings to complete the class** \nRegister for Class
URL:https://nwgreenbay.org/nwgbevent/homebuyer-education-class-part-2/2026-10-06/
LOCATION:NeighborWorks Green Bay
CATEGORIES:Homebuyer Education Class
ORGANIZER;CN="NeighborWorks Green Bay":MAILTO:info@nwgreenbay.org
END:VEVENT
BEGIN:VEVENT
DTSTART;VALUE=DATE:20261012
DTEND;VALUE=DATE:20261013
DTSTAMP:20260422T035309
CREATED:20251120T212819Z
LAST-MODIFIED:20251120T212819Z
UID:10000207-1791763200-1791849599@nwgreenbay.org
SUMMARY:Closed for Indigenous Peoples Day
DESCRIPTION:
URL:https://nwgreenbay.org/nwgbevent/closed-for-indigenous-peoples-day-3/
CATEGORIES:Office Closure
END:VEVENT
BEGIN:VEVENT
DTSTART;TZID=America/Chicago:20261017T090000
DTEND;TZID=America/Chicago:20261017T150000
DTSTAMP:20260422T035309
CREATED:20260224T004059Z
LAST-MODIFIED:20260304T215125Z
UID:10000258-1792227600-1792249200@nwgreenbay.org
SUMMARY:Clase de educación para compradores de vivienda
DESCRIPTION:La clase de educación para compradores de vivienda en español está en el salón de NeighborWorks Green Bay. El costo de esta clase es de $50\, no reembolsable. \nLa inscripción cerrará 24 horas antes de la fecha de la clase. \nRegístrate para la clase
URL:https://nwgreenbay.org/nwgbevent/clase-de-educacion-para-compradores-de-vivienda-2/2026-10-17/
LOCATION:NeighborWorks Green Bay
CATEGORIES:Homebuyer Education Class
ORGANIZER;CN="NeighborWorks Green Bay":MAILTO:info@nwgreenbay.org
END:VEVENT
END:VCALENDAR